BEGIN:VCALENDAR
VERSION:2.0
PRODID:-//Pôle 9 - ECPv6.5.1//NONSGML v1.0//EN
CALSCALE:GREGORIAN
METHOD:PUBLISH
X-WR-CALNAME:Pôle 9
X-ORIGINAL-URL:https://pole9.fr
X-WR-CALDESC:évènements pour Pôle 9
REFRESH-INTERVAL;VALUE=DURATION:PT1H
X-Robots-Tag:noindex
X-PUBLISHED-TTL:PT1H
BEGIN:VTIMEZONE

END:VTIMEZONE
BEGIN:VEVENT
DTSTART;TZID=Europe/Paris:20260421T020344
DTEND;TZID=Europe/Paris:20250709T000000
DTSTAMP:20260421T020344
CREATED:20250627T135300Z
LAST-MODIFIED:20250627T135300Z
UID:248459-0-1752019200@pole9.fr
SUMMARY:mercredi de l'été #1
DESCRIPTION:SPECTACLES ET INITIATION BMX – JORIS BRETAGNOLLES\nANIMATIONS SPORT\, NATURE\, INITIATION AUX ECHECS\, JEUX POUR TOUTE LA FAMILLE\nATELIER FRESQUE AVEC L’IMPRÉVISIBLE FABRIQUE\nPRÉVENTION SANTÉ SOLEIL\n21H MUSIQUE BRÉSILIENNE DIOGO CADAVAL\nbuvette et petite restauration sur place X autofinancement jeunes
URL:https://pole9.fr/event/mercredi-de-lete-1-2/
END:VEVENT
BEGIN:VEVENT
DTSTART;TZID=Europe/Paris:20240311T100000
DTEND;TZID=Europe/Paris:20240328T183000
DTSTAMP:20260421T020344
CREATED:20240228T154218Z
LAST-MODIFIED:20240229T085054Z
UID:247174-1710151200-1711650600@pole9.fr
SUMMARY:Exposition Peinture - Angèle FONSECA 
DESCRIPTION:“Je m’appelle Angèle FONSECA\, j’habite à Saint-Cyr-au-Mont-d’Or. J’aime profondément la peinture\, je peins les images qui flottent dans ma tête.\nÇa permet de m’exprimer\, de vider mon esprit\, c’est comme une thérapie. Au début\, je peignais pour moi\, pour le plaisir.\nEn 2015 j’ai eu l’occasion d’exposer pour la Biennale Hors Norme de Lyon.\nC’est important pour moi d’exposer et montrer qui je suis. La peinture c’est ma vie.” \nVernissage : vendredi 15 mars à 17h.
URL:https://pole9.fr/event/exposition-peinture-angele-fonseca/
LOCATION:Pôle 9 – MJC Centre Social\, 4 rue Sylvain Simondan\, Lyon\, 69009\, France
CATEGORIES:Exposition,Gratuit
ATTACH;FMTTYPE=image/png:https://pole9.fr/wp-content/uploads/2024/02/angele-4.png
END:VEVENT
BEGIN:VEVENT
DTSTART;TZID=Europe/Paris:20240313T170000
DTEND;TZID=Europe/Paris:20240313T170000
DTSTAMP:20260421T020344
CREATED:20240228T154808Z
LAST-MODIFIED:20240228T155924Z
UID:247178-1710349200-1710349200@pole9.fr
SUMMARY:Cocléamama - spectacle musical & théâtre d’ombre
DESCRIPTION:La cochlée\, ce coquillage invisible niché au creux de notre oreille\, s’est rempli de liquide lorsque nous\, animaux marins\, nous sommes adaptés à la vie terrestre donnant ainsi naissance au sens de l’équilibre et de l’audition.\nEntre le bercement de l’eau et l’équilibre subtil de notre marche\, nous invitons les spectateurs petits et grands à s’immerger dans un monde sonore et lumineux : arbre à sons\, tamis du ressac\, orgues pieuvres\, aquaphone\, forêt d’algues sonore… La rencontre de ces instruments de musique originaux et la dimension magique des ombres et des lumières créent des paysages et tissent les liens sensibles entre nos mémoires de vie aquatique et rêves de vie terrestre\, et notre petite et grande histoire. \nDe 6 mois à 5 ans – durée 30 minutes + 10 minutes d’exploration \nTarif au choix 5€ / 7€ / 10€\nBilletterie : https://www.billetweb.fr/cocleamama1
URL:https://pole9.fr/event/cocleamama-spectacle-musical-theatre-dombre/
LOCATION:Pôle 9 – MJC Centre Social\, 4 rue Sylvain Simondan\, Lyon\, 69009\, France
CATEGORIES:Spectacle,Tout public
END:VEVENT
END:VCALENDAR