BEGIN:VCALENDAR
VERSION:2.0
PRODID:-//Pôle 9 - ECPv6.5.1//NONSGML v1.0//EN
CALSCALE:GREGORIAN
METHOD:PUBLISH
X-WR-CALNAME:Pôle 9
X-ORIGINAL-URL:https://pole9.fr
X-WR-CALDESC:évènements pour Pôle 9
REFRESH-INTERVAL;VALUE=DURATION:PT1H
X-Robots-Tag:noindex
X-PUBLISHED-TTL:PT1H
BEGIN:VTIMEZONE

END:VTIMEZONE
BEGIN:VEVENT
DTSTART;TZID=Europe/Paris:20260421T020411
DTEND;TZID=Europe/Paris:20250709T000000
DTSTAMP:20260421T020411
CREATED:20250627T135300Z
LAST-MODIFIED:20250627T135300Z
UID:248459-0-1752019200@pole9.fr
SUMMARY:mercredi de l'été #1
DESCRIPTION:SPECTACLES ET INITIATION BMX – JORIS BRETAGNOLLES\nANIMATIONS SPORT\, NATURE\, INITIATION AUX ECHECS\, JEUX POUR TOUTE LA FAMILLE\nATELIER FRESQUE AVEC L’IMPRÉVISIBLE FABRIQUE\nPRÉVENTION SANTÉ SOLEIL\n21H MUSIQUE BRÉSILIENNE DIOGO CADAVAL\nbuvette et petite restauration sur place X autofinancement jeunes
URL:https://pole9.fr/event/mercredi-de-lete-1-2/
END:VEVENT
BEGIN:VEVENT
DTSTART;TZID=Europe/Paris:20240309T160000
DTEND;TZID=Europe/Paris:20240309T160000
DTSTAMP:20260421T020411
CREATED:20240228T152946Z
LAST-MODIFIED:20240228T152946Z
UID:247171-1710000000-1710000000@pole9.fr
SUMMARY:Concert & Master Class : Midnight Climax 
DESCRIPTION:Le power trio répétant à la MJC\, Midnight Climax\, mélange le funk\, le rock et les musiques électroniques. \nLe groupe (Julian : Batterie & MAO / Sébastien : Guitare / Florian : Basse) vous propose un concert entrecoupé d’échanges et de questions autour de leur méthode de création et de production. \nA destination des musicien-ne-s et des curieux-ses qui souhaitent découvrir les dessous d’un projet artistique.  \nOuvert à tout public à partir de 7 ans\,  \nGratuit\, réservation conseillée au Pôle 9  \nProtection auditive conseillée \nLien : https://www.youtube.com/watch?v=OYNIszB_SQw
URL:https://pole9.fr/event/concert-master-class-midnight-climax/
LOCATION:Pôle 9 – MJC Centre Social\, 4 rue Sylvain Simondan\, Lyon\, 69009\, France
CATEGORIES:Concert,Gratuit
END:VEVENT
END:VCALENDAR