BEGIN:VCALENDAR
VERSION:2.0
PRODID:-//Pôle 9 - ECPv6.5.1//NONSGML v1.0//EN
CALSCALE:GREGORIAN
METHOD:PUBLISH
X-ORIGINAL-URL:https://pole9.fr
X-WR-CALDESC:évènements pour Pôle 9
REFRESH-INTERVAL;VALUE=DURATION:PT1H
X-Robots-Tag:noindex
X-PUBLISHED-TTL:PT1H
BEGIN:VTIMEZONE

END:VTIMEZONE
BEGIN:VEVENT
DTSTART;TZID=Europe/Paris:20260421T060353
DTEND;TZID=Europe/Paris:20250709T000000
DTSTAMP:20260421T060353
CREATED:20250627T135300Z
LAST-MODIFIED:20250627T135300Z
UID:248459-0-1752019200@pole9.fr
SUMMARY:mercredi de l'été #1
DESCRIPTION:SPECTACLES ET INITIATION BMX – JORIS BRETAGNOLLES\nANIMATIONS SPORT\, NATURE\, INITIATION AUX ECHECS\, JEUX POUR TOUTE LA FAMILLE\nATELIER FRESQUE AVEC L’IMPRÉVISIBLE FABRIQUE\nPRÉVENTION SANTÉ SOLEIL\n21H MUSIQUE BRÉSILIENNE DIOGO CADAVAL\nbuvette et petite restauration sur place X autofinancement jeunes
URL:https://pole9.fr/event/mercredi-de-lete-1-2/
END:VEVENT
BEGIN:VEVENT
DTSTART;TZID=Europe/Paris:20231220T153000
DTEND;TZID=Europe/Paris:20231220T160500
DTSTAMP:20260421T060353
CREATED:20231129T090607Z
LAST-MODIFIED:20231129T092204Z
UID:247042-1703086200-1703088300@pole9.fr
SUMMARY:Spectacle Umi / Compagnie Lilaho
DESCRIPTION:Umi veut dire mer en japonais et se prononce « oumi ». \nCette histoire tourne autour d’un bateau\, une jonque. De loin\, de près\, de dessus ou par dessous\, nous voilà parti dans une exploration sensorielle pour un concert aquatique en plusieurs tableaux.\nEntre musique acoustique et interaction numérique\, la Cie Lilaho invite le jeune spectateur à un voyage immobile.\nUne plongée sonore et visuelle pour les petits à partir de 1 an. \nTarifs au choix 5€/7€/10€\nBilletterie : https://www.billetweb.fr/umi
URL:https://pole9.fr/event/spectacle-umi-compagnie-lilaho/
LOCATION:Pôle 9 – MJC Centre Social\, 4 rue Sylvain Simondan\, Lyon\, 69009\, France
CATEGORIES:En famille,Spectacle
ATTACH;FMTTYPE=image/jpeg:https://pole9.fr/wp-content/uploads/2023/11/umi.jpg
END:VEVENT
END:VCALENDAR