BEGIN:VCALENDAR
VERSION:2.0
PRODID:-//Pôle 9 - ECPv6.5.1//NONSGML v1.0//EN
CALSCALE:GREGORIAN
METHOD:PUBLISH
X-WR-CALNAME:Pôle 9
X-ORIGINAL-URL:https://pole9.fr
X-WR-CALDESC:évènements pour Pôle 9
REFRESH-INTERVAL;VALUE=DURATION:PT1H
X-Robots-Tag:noindex
X-PUBLISHED-TTL:PT1H
BEGIN:VTIMEZONE

END:VTIMEZONE
BEGIN:VEVENT
DTSTART;TZID=Europe/Paris:20260421T060459
DTEND;TZID=Europe/Paris:20250709T000000
DTSTAMP:20260421T060459
CREATED:20250627T135300Z
LAST-MODIFIED:20250627T135300Z
UID:248459-0-1752019200@pole9.fr
SUMMARY:mercredi de l'été #1
DESCRIPTION:SPECTACLES ET INITIATION BMX – JORIS BRETAGNOLLES\nANIMATIONS SPORT\, NATURE\, INITIATION AUX ECHECS\, JEUX POUR TOUTE LA FAMILLE\nATELIER FRESQUE AVEC L’IMPRÉVISIBLE FABRIQUE\nPRÉVENTION SANTÉ SOLEIL\n21H MUSIQUE BRÉSILIENNE DIOGO CADAVAL\nbuvette et petite restauration sur place X autofinancement jeunes
URL:https://pole9.fr/event/mercredi-de-lete-1-2/
END:VEVENT
BEGIN:VEVENT
DTSTART;TZID=Europe/Paris:20231215T170000
DTEND;TZID=Europe/Paris:20231215T210000
DTSTAMP:20260421T060459
CREATED:20231129T142543Z
LAST-MODIFIED:20231129T144856Z
UID:247048-1702659600-1702674000@pole9.fr
SUMMARY:Soirée Jeux "Voyage\, voyage ! 
DESCRIPTION:Plusieurs espaces de jeux proposés qui permettront à tous et toutes de voyager pendant cette période de fraicheur hivernale (jeux de société\, jeux symboliques).\nA partir de 3 ans \nEntrée gratuite (adhésion au Pôle 9 obligatoire)\nPetite restauration sur place
URL:https://pole9.fr/event/soiree-jeux-voyage-voyage/
LOCATION:Pôle 9 – MJC Centre Social\, 4 rue Sylvain Simondan\, Lyon\, 69009\, France
ATTACH;FMTTYPE=image/jpeg:https://pole9.fr/wp-content/uploads/2023/11/jeux-societe-quebec.jpg
END:VEVENT
END:VCALENDAR