BEGIN:VCALENDAR
VERSION:2.0
PRODID:-//Pôle 9 - ECPv6.5.1//NONSGML v1.0//EN
CALSCALE:GREGORIAN
METHOD:PUBLISH
X-ORIGINAL-URL:https://pole9.fr
X-WR-CALDESC:évènements pour Pôle 9
REFRESH-INTERVAL;VALUE=DURATION:PT1H
X-Robots-Tag:noindex
X-PUBLISHED-TTL:PT1H
BEGIN:VTIMEZONE

END:VTIMEZONE
BEGIN:VEVENT
DTSTART;TZID=Europe/Paris:20260421T060635
DTEND;TZID=Europe/Paris:20250709T000000
DTSTAMP:20260421T060635
CREATED:20250627T135300Z
LAST-MODIFIED:20250627T135300Z
UID:248459-0-1752019200@pole9.fr
SUMMARY:mercredi de l'été #1
DESCRIPTION:SPECTACLES ET INITIATION BMX – JORIS BRETAGNOLLES\nANIMATIONS SPORT\, NATURE\, INITIATION AUX ECHECS\, JEUX POUR TOUTE LA FAMILLE\nATELIER FRESQUE AVEC L’IMPRÉVISIBLE FABRIQUE\nPRÉVENTION SANTÉ SOLEIL\n21H MUSIQUE BRÉSILIENNE DIOGO CADAVAL\nbuvette et petite restauration sur place X autofinancement jeunes
URL:https://pole9.fr/event/mercredi-de-lete-1-2/
END:VEVENT
BEGIN:VEVENT
DTSTART;TZID=Europe/Paris:20231202T203000
DTEND;TZID=Europe/Paris:20231202T203000
DTSTAMP:20260421T060635
CREATED:20231114T145035Z
LAST-MODIFIED:20231114T150315Z
UID:247024-1701549000-1701549000@pole9.fr
SUMMARY:Soirée familiale / Théâtre d’improvisation
DESCRIPTION:C’est l’heure d’un nouveau rendez-vous proposé par la compagnie de théâtre d’impro en résidence au Pôle “Les Chaussettes Trouées” !\nProfitez d’un moment de pure détente en famille avec un nouveau spectacle. Venez vous engager avec eux pour le meilleur et pour le rire ! \nRéservation conseillée au Pôle 9 \nEntrée Prix libre
URL:https://pole9.fr/event/soiree-familiale-theatre-dimprovisation-2/
LOCATION:Pôle 9 – MJC Centre Social\, 4 rue Sylvain Simondan\, Lyon\, 69009\, France
CATEGORIES:En famille,Spectacle
END:VEVENT
END:VCALENDAR