BEGIN:VCALENDAR
VERSION:2.0
PRODID:-//Pôle 9 - ECPv6.5.1//NONSGML v1.0//EN
CALSCALE:GREGORIAN
METHOD:PUBLISH
X-ORIGINAL-URL:https://pole9.fr
X-WR-CALDESC:évènements pour Pôle 9
REFRESH-INTERVAL;VALUE=DURATION:PT1H
X-Robots-Tag:noindex
X-PUBLISHED-TTL:PT1H
BEGIN:VTIMEZONE

END:VTIMEZONE
BEGIN:VEVENT
DTSTART;TZID=Europe/Paris:20260421T060333
DTEND;TZID=Europe/Paris:20250709T000000
DTSTAMP:20260421T060333
CREATED:20250627T135300Z
LAST-MODIFIED:20250627T135300Z
UID:248459-0-1752019200@pole9.fr
SUMMARY:mercredi de l'été #1
DESCRIPTION:SPECTACLES ET INITIATION BMX – JORIS BRETAGNOLLES\nANIMATIONS SPORT\, NATURE\, INITIATION AUX ECHECS\, JEUX POUR TOUTE LA FAMILLE\nATELIER FRESQUE AVEC L’IMPRÉVISIBLE FABRIQUE\nPRÉVENTION SANTÉ SOLEIL\n21H MUSIQUE BRÉSILIENNE DIOGO CADAVAL\nbuvette et petite restauration sur place X autofinancement jeunes
URL:https://pole9.fr/event/mercredi-de-lete-1-2/
END:VEVENT
BEGIN:VEVENT
DTSTART;TZID=Europe/Paris:20231129T133000
DTEND;TZID=Europe/Paris:20231129T153000
DTSTAMP:20260421T060333
CREATED:20231114T130950Z
LAST-MODIFIED:20231114T130950Z
UID:247015-1701264600-1701271800@pole9.fr
SUMMARY:Atelier Parents /enfants "Fabrication de cartes de vœux"
DESCRIPTION:A partir de 5 ans\nTarif : 3 euros par enfant et gratuit pour l’accompagnant / adhésion obligatoire
URL:https://pole9.fr/event/atelier-parents-enfants-fabrication-de-cartes-de-voeux/
LOCATION:Pôle 9 – MJC Centre Social\, 4 rue Sylvain Simondan\, Lyon\, 69009\, France
CATEGORIES:Atelier parents/enfants
END:VEVENT
BEGIN:VEVENT
DTSTART;TZID=Europe/Paris:20231129T153000
DTEND;TZID=Europe/Paris:20231129T153000
DTSTAMP:20260421T060333
CREATED:20231114T131516Z
LAST-MODIFIED:20231129T092230Z
UID:247018-1701271800-1701271800@pole9.fr
SUMMARY:Spectacle "Presqu’illisibles" / Compagnie Lunée l’Ôtre
DESCRIPTION:Venue d’une île que seul un mince chemin relie au continent\, Isaure\, factrice de profession\, décide de gagner la pleine terre\, embarquant sur son porte-bagage Frédérique\, poissonnière en reconversion\, qui rêve de missives lues à la criée et sur les places de marchés.  \nRacontant son voyage et la force des rencontres qui l’ont marquée\, Isaure se dévoile mot à mot\, sème ses lettres\, les détache d’un archipel de souvenirs comme on éparpille un carnet de voyage.  \nSpectacle-atelier épistolaire tout public à partir de 7 ans \nTarifs au choix 5 / 7 / 10 euros\nBilletterie : https://www.billetweb.fr/umi
URL:https://pole9.fr/event/spectacle-presquillisibles-compagnie-lunee-lotre/
CATEGORIES:En famille,Spectacle
ATTACH;FMTTYPE=image/jpeg:https://pole9.fr/wp-content/uploads/2023/11/bateau.jpg
END:VEVENT
END:VCALENDAR