BEGIN:VCALENDAR
VERSION:2.0
PRODID:-//Pôle 9 - ECPv6.5.1//NONSGML v1.0//EN
CALSCALE:GREGORIAN
METHOD:PUBLISH
X-WR-CALNAME:Pôle 9
X-ORIGINAL-URL:https://pole9.fr
X-WR-CALDESC:évènements pour Pôle 9
REFRESH-INTERVAL;VALUE=DURATION:PT1H
X-Robots-Tag:noindex
X-PUBLISHED-TTL:PT1H
BEGIN:VTIMEZONE

END:VTIMEZONE
BEGIN:VEVENT
DTSTART;TZID=Europe/Paris:20260421T073240
DTEND;TZID=Europe/Paris:20250709T000000
DTSTAMP:20260421T073240
CREATED:20250627T135300Z
LAST-MODIFIED:20250627T135300Z
UID:248459-0-1752019200@pole9.fr
SUMMARY:mercredi de l'été #1
DESCRIPTION:SPECTACLES ET INITIATION BMX – JORIS BRETAGNOLLES\nANIMATIONS SPORT\, NATURE\, INITIATION AUX ECHECS\, JEUX POUR TOUTE LA FAMILLE\nATELIER FRESQUE AVEC L’IMPRÉVISIBLE FABRIQUE\nPRÉVENTION SANTÉ SOLEIL\n21H MUSIQUE BRÉSILIENNE DIOGO CADAVAL\nbuvette et petite restauration sur place X autofinancement jeunes
URL:https://pole9.fr/event/mercredi-de-lete-1-2/
END:VEVENT
BEGIN:VEVENT
DTSTART;TZID=Europe/Paris:20231124T193000
DTEND;TZID=Europe/Paris:20231124T193000
DTSTAMP:20260421T073240
CREATED:20231107T082553Z
LAST-MODIFIED:20231115T161123Z
UID:246989-1700854200-1700854200@pole9.fr
SUMMARY:Conférence parentalité
DESCRIPTION:Parents / enfant / professionnels\, une relation qui se construit dans le temps  \nLes pistes explorées pendant la conférence :\nLes enjeux d’une relation triangulaire (professionnels/enfant/parents)\nQu’est-ce que ça apporte à l’enfant ?\nFamilles\, enfants et professionnels des besoins distincts et complémentaires\nComment agir ensemble pour participer au bien-être de l’enfant ?\nCohérence signifie-t-il faire la même chose ?\nComment communiquer autour de l’enfant ?\nDes pistes facilitatrices pour faire alliance \nPot d’accueil à 19h30\nEn partenariat avec le relai Petite Enfance Baby Duch’\nGRATUIT – Réservation conseillée à l’accueil du Pôle 9
URL:https://pole9.fr/event/conference-parentalite-3/
LOCATION:Pôle 9 – MJC Centre Social\, 4 rue Sylvain Simondan\, Lyon\, 69009\, France
END:VEVENT
END:VCALENDAR