BEGIN:VCALENDAR
VERSION:2.0
PRODID:-//Pôle 9 - ECPv6.5.1//NONSGML v1.0//EN
CALSCALE:GREGORIAN
METHOD:PUBLISH
X-ORIGINAL-URL:https://pole9.fr
X-WR-CALDESC:évènements pour Pôle 9
REFRESH-INTERVAL;VALUE=DURATION:PT1H
X-Robots-Tag:noindex
X-PUBLISHED-TTL:PT1H
BEGIN:VTIMEZONE

END:VTIMEZONE
BEGIN:VEVENT
DTSTART;TZID=Europe/Paris:20260421T073428
DTEND;TZID=Europe/Paris:20250709T000000
DTSTAMP:20260421T073428
CREATED:20250627T135300Z
LAST-MODIFIED:20250627T135300Z
UID:248459-0-1752019200@pole9.fr
SUMMARY:mercredi de l'été #1
DESCRIPTION:SPECTACLES ET INITIATION BMX – JORIS BRETAGNOLLES\nANIMATIONS SPORT\, NATURE\, INITIATION AUX ECHECS\, JEUX POUR TOUTE LA FAMILLE\nATELIER FRESQUE AVEC L’IMPRÉVISIBLE FABRIQUE\nPRÉVENTION SANTÉ SOLEIL\n21H MUSIQUE BRÉSILIENNE DIOGO CADAVAL\nbuvette et petite restauration sur place X autofinancement jeunes
URL:https://pole9.fr/event/mercredi-de-lete-1-2/
END:VEVENT
BEGIN:VEVENT
DTSTART;TZID=Europe/Paris:20231117T193000
DTEND;TZID=Europe/Paris:20231117T193000
DTSTAMP:20260421T073428
CREATED:20231114T124546Z
LAST-MODIFIED:20231114T131110Z
UID:247003-1700249400-1700249400@pole9.fr
SUMMARY:Concert Vocamix
DESCRIPTION:L’équipe de Léthé Musicale s’associe avec le Pôle Musique du Pôle 9 – Omar Zenati – handpan et Barbarian Red – pop rock) pour organiser une soirée concert où enfants et adultes\, valides et en situation de handicap\, artistes et public se rencontrent en musique. \nProgrammation en cours.  \nBuvette sur place \nRéservation conseillée au Pôle 9  \nEntrée gratuite
URL:https://pole9.fr/event/concert-vocamix/
LOCATION:Pôle 9 – MJC Centre Social\, 4 rue Sylvain Simondan\, Lyon\, 69009\, France
CATEGORIES:Concert,Gratuit
ATTACH;FMTTYPE=image/jpeg:https://pole9.fr/wp-content/uploads/2023/11/lethemusicale.jpg
END:VEVENT
END:VCALENDAR