BEGIN:VCALENDAR
VERSION:2.0
PRODID:-//Pôle 9 - ECPv6.5.1//NONSGML v1.0//EN
CALSCALE:GREGORIAN
METHOD:PUBLISH
X-WR-CALNAME:Pôle 9
X-ORIGINAL-URL:https://pole9.fr
X-WR-CALDESC:évènements pour Pôle 9
REFRESH-INTERVAL;VALUE=DURATION:PT1H
X-Robots-Tag:noindex
X-PUBLISHED-TTL:PT1H
BEGIN:VTIMEZONE

END:VTIMEZONE
BEGIN:VEVENT
DTSTART;TZID=Europe/Paris:20260421T090251
DTEND;TZID=Europe/Paris:20250709T000000
DTSTAMP:20260421T090251
CREATED:20250627T135300Z
LAST-MODIFIED:20250627T135300Z
UID:248459-0-1752019200@pole9.fr
SUMMARY:mercredi de l'été #1
DESCRIPTION:SPECTACLES ET INITIATION BMX – JORIS BRETAGNOLLES\nANIMATIONS SPORT\, NATURE\, INITIATION AUX ECHECS\, JEUX POUR TOUTE LA FAMILLE\nATELIER FRESQUE AVEC L’IMPRÉVISIBLE FABRIQUE\nPRÉVENTION SANTÉ SOLEIL\n21H MUSIQUE BRÉSILIENNE DIOGO CADAVAL\nbuvette et petite restauration sur place X autofinancement jeunes
URL:https://pole9.fr/event/mercredi-de-lete-1-2/
END:VEVENT
BEGIN:VEVENT
DTSTART;TZID=Europe/Paris:20231013T200000
DTEND;TZID=Europe/Paris:20231013T210000
DTSTAMP:20260421T090251
CREATED:20230925T132935Z
LAST-MODIFIED:20230925T132935Z
UID:246936-1697227200-1697230800@pole9.fr
SUMMARY:Théâtre "Une Crise" Compagnie Carnages
DESCRIPTION:Dans un monde où le masculin est en péril\, Philippe Loiseau est mandaté pour mener une séance de virilisation et contribuer ainsi à remuscler la société.\nMais lui-même a bien du mal à réussir toutes les démonstrations imposées\, les objets lui jouent des tours\, son pied se coince\, glisse\, dérape…\nIl échoue lamentablement à dominer\, performer\, protéger etc mais n’abandonne pas\, continue à se battre et se débattre.\nEntre sa nature intime et sa mission\, un gouffre vertigineux se creuse. Tombera-t-il ou s’envolera-t-il ?\nTout public à partir de 12 ans
URL:https://pole9.fr/event/theatre-une-crise-compagnie-carnages/
LOCATION:Pôle 9 – MJC Centre Social\, 4 rue Sylvain Simondan\, Lyon\, 69009\, France
CATEGORIES:Théâtre
END:VEVENT
END:VCALENDAR