BEGIN:VCALENDAR
VERSION:2.0
PRODID:-//Pôle 9 - ECPv6.5.1//NONSGML v1.0//EN
CALSCALE:GREGORIAN
METHOD:PUBLISH
X-WR-CALNAME:Pôle 9
X-ORIGINAL-URL:https://pole9.fr
X-WR-CALDESC:évènements pour Pôle 9
REFRESH-INTERVAL;VALUE=DURATION:PT1H
X-Robots-Tag:noindex
X-PUBLISHED-TTL:PT1H
BEGIN:VTIMEZONE

END:VTIMEZONE
BEGIN:VEVENT
DTSTART;TZID=Europe/Paris:20260421T085854
DTEND;TZID=Europe/Paris:20250709T000000
DTSTAMP:20260421T085854
CREATED:20250627T135300Z
LAST-MODIFIED:20250627T135300Z
UID:248459-0-1752019200@pole9.fr
SUMMARY:mercredi de l'été #1
DESCRIPTION:SPECTACLES ET INITIATION BMX – JORIS BRETAGNOLLES\nANIMATIONS SPORT\, NATURE\, INITIATION AUX ECHECS\, JEUX POUR TOUTE LA FAMILLE\nATELIER FRESQUE AVEC L’IMPRÉVISIBLE FABRIQUE\nPRÉVENTION SANTÉ SOLEIL\n21H MUSIQUE BRÉSILIENNE DIOGO CADAVAL\nbuvette et petite restauration sur place X autofinancement jeunes
URL:https://pole9.fr/event/mercredi-de-lete-1-2/
END:VEVENT
BEGIN:VEVENT
DTSTART;TZID=Europe/Paris:20231003T183000
DTEND;TZID=Europe/Paris:20231003T203000
DTSTAMP:20260421T085854
CREATED:20230925T133224Z
LAST-MODIFIED:20230925T140242Z
UID:246938-1696357800-1696365000@pole9.fr
SUMMARY:Venez imaginer le Pôle 9 de demain
DESCRIPTION:Soirée sous le signe de l’échange et de la convivialité réservées aux adhérent.es et aux habitant.es de St Rambert \n\nprojection d’une vidéo mettant en avant les habitant.es et le quartier de St Rambert\nDébat échange sur le Pôle 9 et vos envies pour demain\nPot convivial\n\nLes enfants sont les bienvenus : Ceux qui le voudront pourront participer aux échanges à partir de 6 ans. Garderie pour les plus petits et ceux qui ne souhaiteraient pas participer au débat.
URL:https://pole9.fr/event/venez-imaginer-le-pole-9-de-demain/
LOCATION:Pôle 9 – MJC Centre Social\, 4 rue Sylvain Simondan\, Lyon\, 69009\, France
END:VEVENT
END:VCALENDAR