BEGIN:VCALENDAR
VERSION:2.0
PRODID:-//Pôle 9 - ECPv6.5.1//NONSGML v1.0//EN
CALSCALE:GREGORIAN
METHOD:PUBLISH
X-ORIGINAL-URL:https://pole9.fr
X-WR-CALDESC:évènements pour Pôle 9
REFRESH-INTERVAL;VALUE=DURATION:PT1H
X-Robots-Tag:noindex
X-PUBLISHED-TTL:PT1H
BEGIN:VTIMEZONE

END:VTIMEZONE
BEGIN:VEVENT
DTSTART;TZID=Europe/Paris:20260421T104837
DTEND;TZID=Europe/Paris:20250709T000000
DTSTAMP:20260421T104837
CREATED:20250627T135300Z
LAST-MODIFIED:20250627T135300Z
UID:248459-0-1752019200@pole9.fr
SUMMARY:mercredi de l'été #1
DESCRIPTION:SPECTACLES ET INITIATION BMX – JORIS BRETAGNOLLES\nANIMATIONS SPORT\, NATURE\, INITIATION AUX ECHECS\, JEUX POUR TOUTE LA FAMILLE\nATELIER FRESQUE AVEC L’IMPRÉVISIBLE FABRIQUE\nPRÉVENTION SANTÉ SOLEIL\n21H MUSIQUE BRÉSILIENNE DIOGO CADAVAL\nbuvette et petite restauration sur place X autofinancement jeunes
URL:https://pole9.fr/event/mercredi-de-lete-1-2/
END:VEVENT
BEGIN:VEVENT
DTSTART;TZID=Europe/Paris:20230830T100000
DTEND;TZID=Europe/Paris:20230908T193000
DTSTAMP:20260421T104837
CREATED:20230705T101902Z
LAST-MODIFIED:20230705T103521Z
UID:246875-1693389600-1694201400@pole9.fr
SUMMARY:Inscriptions aux activités hebdomadaires
DESCRIPTION:Les inscriptions aux activités hebdomadaires se déroulent sur place au Pôle 9 du mercredi 30 août au vendredi 8 septembre 2023 :\nMer. 30 août 10h à 12h et 14h à 19h30\,\nJeudi 31 août et vendredi 1er septembre 10h à 12h et 14h à 19h30\,\nSam. 2 septembre 9h30 à 12h\,\nMar. 5 \, Mer. 6\, Jeu. 7 et Ven. 8 septembre 10h à 12h et 14h à 19h30.\n\nIl faut être muni d’une attestation de quotient familial CAF (ou avis d’imposition) de moins de 3 mois pour le tarif\, moyen de règlement : chèques (chèques vacances acceptés) et/ou espèces. \nBons d’essai :\nVous pouvez essayer gratuitement les activités\, dans la limite des places disponibles et de 2 activités par personne (sauf activités musicales).\nLes bons d’essai sont à retirer à l’accueil.
URL:https://pole9.fr/event/inscriptions-aux-activites-hebdomadaires/
LOCATION:Pôle 9 – MJC Centre Social\, 4 rue Sylvain Simondan\, Lyon\, 69009\, France
ATTACH;FMTTYPE=image/jpeg:https://pole9.fr/wp-content/uploads/2021/09/capture_video_pole9.jpg
END:VEVENT
END:VCALENDAR