BEGIN:VCALENDAR
VERSION:2.0
PRODID:-//Pôle 9 - ECPv6.5.1//NONSGML v1.0//EN
CALSCALE:GREGORIAN
METHOD:PUBLISH
X-WR-CALNAME:Pôle 9
X-ORIGINAL-URL:https://pole9.fr
X-WR-CALDESC:évènements pour Pôle 9
REFRESH-INTERVAL;VALUE=DURATION:PT1H
X-Robots-Tag:noindex
X-PUBLISHED-TTL:PT1H
BEGIN:VTIMEZONE

END:VTIMEZONE
BEGIN:VEVENT
DTSTART;TZID=Europe/Paris:20260421T130807
DTEND;TZID=Europe/Paris:20250709T000000
DTSTAMP:20260421T130807
CREATED:20250627T135300Z
LAST-MODIFIED:20250627T135300Z
UID:248459-0-1752019200@pole9.fr
SUMMARY:mercredi de l'été #1
DESCRIPTION:SPECTACLES ET INITIATION BMX – JORIS BRETAGNOLLES\nANIMATIONS SPORT\, NATURE\, INITIATION AUX ECHECS\, JEUX POUR TOUTE LA FAMILLE\nATELIER FRESQUE AVEC L’IMPRÉVISIBLE FABRIQUE\nPRÉVENTION SANTÉ SOLEIL\n21H MUSIQUE BRÉSILIENNE DIOGO CADAVAL\nbuvette et petite restauration sur place X autofinancement jeunes
URL:https://pole9.fr/event/mercredi-de-lete-1-2/
END:VEVENT
BEGIN:VEVENT
DTSTART;TZID=Europe/Paris:20230716T150000
DTEND;TZID=Europe/Paris:20230716T220000
DTSTAMP:20260421T130807
CREATED:20230705T095411Z
LAST-MODIFIED:20230705T095411Z
UID:246855-1689519600-1689544800@pole9.fr
SUMMARY:Dimanche de l'Ile Barbe #2
DESCRIPTION:15h/18h Performance artistique de l’Imprévisible Fabrique\n\n15h/19h Ludothèque en plein air pour toutes et tous\n\n16h30 Etage 17 – Bside Company – Cirque\nC’est l’histoire de trois destins qui tentent de communiquer sur le sens de la vie\, qui reste toujours un mystère. Un univers décalé où l’esthétique revêt bien des formes et où le sens a bien des directions. Une plongée cocasse dans un univers absurde\, où se côtoient acrobaties et musique électrique.\nhttps://youtu.be/-LfdP4BlCY4\n\n18h Obsidiane – jazz\nPiano\, batterie\, et contrebasse pour ce trio de jazz lyonnais qui s’inspire de quelques grands noms du jazz mais aussi d’autres styles musicaux (hip-hop\, métal\, techno et soul) pour créer un son singulier et empli d’émotions.\nhttps://fb.watch/lrVvmV5GTJ/\n\n19h45 La Sazón – Salsa dura\nAlliant le répertoire de salsa dura et des compositions originales\, le groupe propose un mélange entre traditions et cultures urbaines actuelles. Sa musique porteuse de la chaleur authentique d’outre-mer invite à tendre l’oreille et oblige le corps à se laisser aller à danser.\nhttps://youtu.be/54LnCPpBN6s\n\nGRATUIT\nEn continu\nBoissons artisanales et locales à la vente\nCrêpes et galettes Les Galettes d’Aline\nEsquimaux de la Conserverie Les Cousins
URL:https://pole9.fr/event/dimanche-de-lile-barbe-2/
LOCATION:L’Ile Barbe\, Lyon\, 69009\, France
CATEGORIES:En famille,Festival Les Dimanches de l'Ile Barbe,Gratuit
END:VEVENT
END:VCALENDAR