BEGIN:VCALENDAR
VERSION:2.0
PRODID:-//Pôle 9 - ECPv6.5.1//NONSGML v1.0//EN
CALSCALE:GREGORIAN
METHOD:PUBLISH
X-ORIGINAL-URL:https://pole9.fr
X-WR-CALDESC:évènements pour Pôle 9
REFRESH-INTERVAL;VALUE=DURATION:PT1H
X-Robots-Tag:noindex
X-PUBLISHED-TTL:PT1H
BEGIN:VTIMEZONE

END:VTIMEZONE
BEGIN:VEVENT
DTSTART;TZID=Europe/Paris:20260421T143722
DTEND;TZID=Europe/Paris:20250709T000000
DTSTAMP:20260421T143722
CREATED:20250627T135300Z
LAST-MODIFIED:20250627T135300Z
UID:248459-0-1752019200@pole9.fr
SUMMARY:mercredi de l'été #1
DESCRIPTION:SPECTACLES ET INITIATION BMX – JORIS BRETAGNOLLES\nANIMATIONS SPORT\, NATURE\, INITIATION AUX ECHECS\, JEUX POUR TOUTE LA FAMILLE\nATELIER FRESQUE AVEC L’IMPRÉVISIBLE FABRIQUE\nPRÉVENTION SANTÉ SOLEIL\n21H MUSIQUE BRÉSILIENNE DIOGO CADAVAL\nbuvette et petite restauration sur place X autofinancement jeunes
URL:https://pole9.fr/event/mercredi-de-lete-1-2/
END:VEVENT
BEGIN:VEVENT
DTSTART;TZID=Europe/Paris:20230617T100000
DTEND;TZID=Europe/Paris:20230617T120000
DTSTAMP:20260421T143722
CREATED:20230522T092618Z
LAST-MODIFIED:20230522T092618Z
UID:246681-1686996000-1687003200@pole9.fr
SUMMARY:Stage handpan - Initiation ou approfondissement
DESCRIPTION:Omar Zenati joue du handpan depuis 7 ans. Venez découvrir ou continuer de vous familiariser à cet instrument peu commun. C’est avec passion qu’il vous transmettra l’histoire\, les techniques et le savoir-faire de cet instrument aux sonorités envoûtantes. Omar vous prêtera un instrument. \nA partir de 10 ans\, ados et adultes.  \nEntrée prix libre (5€ conseillé) mais réservation auparavant à l’accueil du Pôle 9
URL:https://pole9.fr/event/stage-handpan-initiation-ou-approfondissement-4/
LOCATION:Pôle 9 – MJC Centre Social\, 4 rue Sylvain Simondan\, Lyon\, 69009\, France
CATEGORIES:Stages,Tout public
ATTACH;FMTTYPE=image/jpeg:https://pole9.fr/wp-content/uploads/2023/05/unnamed-8.jpg
END:VEVENT
BEGIN:VEVENT
DTSTART;TZID=Europe/Paris:20230617T150000
DTEND;TZID=Europe/Paris:20230617T210000
DTSTAMP:20260421T143722
CREATED:20230517T134619Z
LAST-MODIFIED:20230517T134619Z
UID:246654-1687014000-1687035600@pole9.fr
SUMMARY:Fête du Pôle 9
DESCRIPTION:Journée festive et conviviale pour tous les habitants de 15h à 21h \nPour les touts petits jusqu’aux plus grands : sport\, danse\, cirque\, ateliers créatifs\, bien être \, maquillage\, jeux\, théâtre d’impro\, lunettes 3D\, plage\, exposition etc. vous seront proposés gratuitement tout au long de cette journée par tous les secteurs du Pôle 9 : Crèche\, secteur petite enfance\, enfance\, jeunesse\, famille\, culture\, vie de quartier. \nBuvette (boissons et restauration) sur place  \nProgramme et modalités de participation (réservation aux ateliers) vous seront précisés ultérieurement
URL:https://pole9.fr/event/fete-du-pole-9-2/
LOCATION:Pôle 9 – MJC Centre Social\, 4 rue Sylvain Simondan\, Lyon\, 69009\, France
END:VEVENT
END:VCALENDAR