BEGIN:VCALENDAR
VERSION:2.0
PRODID:-//Pôle 9 - ECPv6.5.1//NONSGML v1.0//EN
CALSCALE:GREGORIAN
METHOD:PUBLISH
X-ORIGINAL-URL:https://pole9.fr
X-WR-CALDESC:évènements pour Pôle 9
REFRESH-INTERVAL;VALUE=DURATION:PT1H
X-Robots-Tag:noindex
X-PUBLISHED-TTL:PT1H
BEGIN:VTIMEZONE

END:VTIMEZONE
BEGIN:VEVENT
DTSTART;TZID=Europe/Paris:20260421T142847
DTEND;TZID=Europe/Paris:20250709T000000
DTSTAMP:20260421T142847
CREATED:20250627T135300Z
LAST-MODIFIED:20250627T135300Z
UID:248459-0-1752019200@pole9.fr
SUMMARY:mercredi de l'été #1
DESCRIPTION:SPECTACLES ET INITIATION BMX – JORIS BRETAGNOLLES\nANIMATIONS SPORT\, NATURE\, INITIATION AUX ECHECS\, JEUX POUR TOUTE LA FAMILLE\nATELIER FRESQUE AVEC L’IMPRÉVISIBLE FABRIQUE\nPRÉVENTION SANTÉ SOLEIL\n21H MUSIQUE BRÉSILIENNE DIOGO CADAVAL\nbuvette et petite restauration sur place X autofinancement jeunes
URL:https://pole9.fr/event/mercredi-de-lete-1-2/
END:VEVENT
BEGIN:VEVENT
DTSTART;TZID=Europe/Paris:20230610T190000
DTEND;TZID=Europe/Paris:20230610T190000
DTSTAMP:20260421T142847
CREATED:20230524T074144Z
LAST-MODIFIED:20230531T135609Z
UID:246732-1686423600-1686423600@pole9.fr
SUMMARY:Concert des ateliers du Pôle musique
DESCRIPTION:L’apprentissage de la musique au Pôle 9 est axé sur la pratique collective des enfants\, ados et adultes autour des musiques actuelles. Venez découvrir le panel des chansons présentées et appréciez leur musicalité !\n3 groupes se produisent également ce soir : In Temp\, Barbarian Red et Aftermath. \nRéservation conseillée\nEntrée Prix libre\nBuvette (boissons et restauration) sur place
URL:https://pole9.fr/event/concert-des-ateliers-du-pole-musique-3/
LOCATION:Pôle 9 – MJC Centre Social\, 4 rue Sylvain Simondan\, Lyon\, 69009\, France
CATEGORIES:Concert
ATTACH;FMTTYPE=image/jpeg:https://pole9.fr/wp-content/uploads/2023/05/ConcertdesgroupesduPolemusique-1.jpg
END:VEVENT
END:VCALENDAR