BEGIN:VCALENDAR
VERSION:2.0
PRODID:-//Pôle 9 - ECPv6.5.1//NONSGML v1.0//EN
CALSCALE:GREGORIAN
METHOD:PUBLISH
X-ORIGINAL-URL:https://pole9.fr
X-WR-CALDESC:évènements pour Pôle 9
REFRESH-INTERVAL;VALUE=DURATION:PT1H
X-Robots-Tag:noindex
X-PUBLISHED-TTL:PT1H
BEGIN:VTIMEZONE

END:VTIMEZONE
BEGIN:VEVENT
DTSTART;TZID=Europe/Paris:20260421T142919
DTEND;TZID=Europe/Paris:20250709T000000
DTSTAMP:20260421T142919
CREATED:20250627T135300Z
LAST-MODIFIED:20250627T135300Z
UID:248459-0-1752019200@pole9.fr
SUMMARY:mercredi de l'été #1
DESCRIPTION:SPECTACLES ET INITIATION BMX – JORIS BRETAGNOLLES\nANIMATIONS SPORT\, NATURE\, INITIATION AUX ECHECS\, JEUX POUR TOUTE LA FAMILLE\nATELIER FRESQUE AVEC L’IMPRÉVISIBLE FABRIQUE\nPRÉVENTION SANTÉ SOLEIL\n21H MUSIQUE BRÉSILIENNE DIOGO CADAVAL\nbuvette et petite restauration sur place X autofinancement jeunes
URL:https://pole9.fr/event/mercredi-de-lete-1-2/
END:VEVENT
BEGIN:VEVENT
DTSTART;TZID=Europe/Paris:20230609T190000
DTEND;TZID=Europe/Paris:20230609T190000
DTSTAMP:20260421T142919
CREATED:20230524T082539Z
LAST-MODIFIED:20230524T085622Z
UID:246737-1686337200-1686337200@pole9.fr
SUMMARY:Spectacle des ateliers théâtre enfants\, ados et adultes du Pôle 9
DESCRIPTION:Soirée proposée par Guillemette Crémèse\, Mathilde Mariat et Nell Senaillet\, animatrices théâtre & comédiennes au sein de la Cie les Rêves arrangés. \n19h – Groupe 9-11 ans\nLes Monstres\, d’après le texte de Grégoire Kocjan\nSorcières\, vampires\, fantômes\, ogres\, loups-garous… les monstres se sont réuni.e.s pour une fête de tous les diables ! Soudain\, l’une des invitées s’évanouit. Stupeur ! C’est une enfant déguisée qui s’est glissé parmi eux. Attention à elle\, aux yeux des monstres\, rien n’est plus monstrueux qu’un.e humain.e…\nDurée 30 min   \n20h – Groupe 12-15 ans\nProuve-le\, d’après le texte de Lucie Vérot\nMême la Lune on ne sait pas si vraiment on y a marché…\nC’est l’histoire d’une bande de filles. Elles fréquentent le même collège où elles sont toutes internes. Un jour\, plusieurs d’entre elles tombent malades en même temps. Rien de grave\, probablement un petit virus. Mais des questions surgissent : et si ce petit virus\, c’était plus grave ? Et si ça venait de la prof de biologie\, cette femme bizarre avec ses cernes verts ? Et si derrière la prof\, il y avait un complot plus grand ? Les adolescentes enquêtent ensemble\, cherchent les réponses sur internet ou dans leur entourage. Certain.es les traitent de paranoïaques\, d’autres se mettent à les croire…\nDurée 40 min \n 21h – Groupe 15 ans et plus\n« Le travail c’est la santé\, rien faire c’est la conserver »\nLe groupe adulte vous présente un ensemble de scènes autour du thème du travail. Entre clichés\, interrogations et remises en question\, pas le temps de chômer… Quoi que.\nDurée ~ 45mi \nRéservation conseillée\nEntrée Prix libre\nBuvette (boissons et restauration) sur place
URL:https://pole9.fr/event/246737/
LOCATION:Pôle 9 – MJC Centre Social\, 4 rue Sylvain Simondan\, Lyon\, 69009\, France
CATEGORIES:En famille,Théâtre
END:VEVENT
BEGIN:VEVENT
DTSTART;TZID=Europe/Paris:20230609T190000
DTEND;TZID=Europe/Paris:20230609T220000
DTSTAMP:20260421T142919
CREATED:20230517T144227Z
LAST-MODIFIED:20230517T144227Z
UID:246660-1686337200-1686348000@pole9.fr
SUMMARY:Soirée rétro et vidéo-gaming
DESCRIPTION:LudoPôle 9 vous invite en soirée !\nFan de jeux vidéo ? Nous mettons à votre disposition différents types de console de jeux\, de la dernière génération à celle qui nous font retomber en enfance. Vous souhaitez apporter et partager un jeu en particulier ? N’hésitez pas à nous  contacter pour anticiper l’installation. \nGratuit sans inscription – à partir de 6 ans\nPlus d’informations auprès de Florian 06.15.65.77.06.
URL:https://pole9.fr/event/soiree-retro-et-video-gaming/
LOCATION:Pôle 9 – MJC Centre Social\, 4 rue Sylvain Simondan\, Lyon\, 69009\, France
CATEGORIES:En famille,Gratuit
END:VEVENT
END:VCALENDAR