BEGIN:VCALENDAR
VERSION:2.0
PRODID:-//Pôle 9 - ECPv6.5.1//NONSGML v1.0//EN
CALSCALE:GREGORIAN
METHOD:PUBLISH
X-WR-CALNAME:Pôle 9
X-ORIGINAL-URL:https://pole9.fr
X-WR-CALDESC:évènements pour Pôle 9
REFRESH-INTERVAL;VALUE=DURATION:PT1H
X-Robots-Tag:noindex
X-PUBLISHED-TTL:PT1H
BEGIN:VTIMEZONE

END:VTIMEZONE
BEGIN:VEVENT
DTSTART;TZID=Europe/Paris:20260421T142618
DTEND;TZID=Europe/Paris:20250709T000000
DTSTAMP:20260421T142618
CREATED:20250627T135300Z
LAST-MODIFIED:20250627T135300Z
UID:248459-0-1752019200@pole9.fr
SUMMARY:mercredi de l'été #1
DESCRIPTION:SPECTACLES ET INITIATION BMX – JORIS BRETAGNOLLES\nANIMATIONS SPORT\, NATURE\, INITIATION AUX ECHECS\, JEUX POUR TOUTE LA FAMILLE\nATELIER FRESQUE AVEC L’IMPRÉVISIBLE FABRIQUE\nPRÉVENTION SANTÉ SOLEIL\n21H MUSIQUE BRÉSILIENNE DIOGO CADAVAL\nbuvette et petite restauration sur place X autofinancement jeunes
URL:https://pole9.fr/event/mercredi-de-lete-1-2/
END:VEVENT
BEGIN:VEVENT
DTSTART;TZID=Europe/Paris:20230607T093000
DTEND;TZID=Europe/Paris:20230607T120000
DTSTAMP:20260421T142618
CREATED:20230522T093540Z
LAST-MODIFIED:20230522T093732Z
UID:246686-1686130200-1686139200@pole9.fr
SUMMARY:Bulle de jeu
DESCRIPTION:La ludothèque se déplace pour le plaisir des tout petits et de leurs parents !\nRetrouvez-nous pour partager un moment convivial de jeu\, ou tout simplement pour profiter des beaux jours dans un cadre ludique.\nGratuit – sans inscription – enfants de moins de 6 ans \nAnnexe du Pôle 9\, 27 rue Albert Falsan – 69009 Lyon
URL:https://pole9.fr/event/bulle-de-jeux-2/
LOCATION:L’Annexe du Pôle 9\, 27 rue Albert Falsan\, LYON\, 69009\, France
CATEGORIES:0/6 ans,Gratuit
ATTACH;FMTTYPE=image/jpeg:https://pole9.fr/wp-content/uploads/2023/05/mains-creche.jpg
END:VEVENT
BEGIN:VEVENT
DTSTART;TZID=Europe/Paris:20230607T140000
DTEND;TZID=Europe/Paris:20230607T140000
DTSTAMP:20260421T142618
CREATED:20230517T145753Z
LAST-MODIFIED:20230517T145817Z
UID:246672-1686146400-1686146400@pole9.fr
SUMMARY:Du côté de la Dargoire\, après-midi convivial
DESCRIPTION:Atelier créatif  + goûter\, et contes de Luluberlue\n \nGratuit et ouvert à tous !
URL:https://pole9.fr/event/du-cote-de-la-dargoire-apres-midi-convivial/
CATEGORIES:En famille,Gratuit
END:VEVENT
END:VCALENDAR