BEGIN:VCALENDAR
VERSION:2.0
PRODID:-//Pôle 9 - ECPv6.5.1//NONSGML v1.0//EN
CALSCALE:GREGORIAN
METHOD:PUBLISH
X-WR-CALNAME:Pôle 9
X-ORIGINAL-URL:https://pole9.fr
X-WR-CALDESC:évènements pour Pôle 9
REFRESH-INTERVAL;VALUE=DURATION:PT1H
X-Robots-Tag:noindex
X-PUBLISHED-TTL:PT1H
BEGIN:VTIMEZONE

END:VTIMEZONE
BEGIN:VEVENT
DTSTART;TZID=Europe/Paris:20260421T143610
DTEND;TZID=Europe/Paris:20250709T000000
DTSTAMP:20260421T143610
CREATED:20250627T135300Z
LAST-MODIFIED:20250627T135300Z
UID:248459-0-1752019200@pole9.fr
SUMMARY:mercredi de l'été #1
DESCRIPTION:SPECTACLES ET INITIATION BMX – JORIS BRETAGNOLLES\nANIMATIONS SPORT\, NATURE\, INITIATION AUX ECHECS\, JEUX POUR TOUTE LA FAMILLE\nATELIER FRESQUE AVEC L’IMPRÉVISIBLE FABRIQUE\nPRÉVENTION SANTÉ SOLEIL\n21H MUSIQUE BRÉSILIENNE DIOGO CADAVAL\nbuvette et petite restauration sur place X autofinancement jeunes
URL:https://pole9.fr/event/mercredi-de-lete-1-2/
END:VEVENT
BEGIN:VEVENT
DTSTART;TZID=Europe/Paris:20230603T193000
DTEND;TZID=Europe/Paris:20230603T193000
DTSTAMP:20260421T143610
CREATED:20230522T094618Z
LAST-MODIFIED:20230522T094723Z
UID:246692-1685820600-1685820600@pole9.fr
SUMMARY:Soirée découverte musique
DESCRIPTION:Le Pôle 9 accueille 3 étudiants du CEFEDEM AURA\, Centre de ressources professionnelles et d’enseignement supérieur artistique et leur projet de fin d’études. C’est une soirée sous le signe de curiosité et de la découverte musicale. \nFlorian Ankierski\, projet « Avant l’heure »\nPost Punk / Synth Pop\nL’éclat des sonorités post-punk\, l’énergie d’une pop influencée par des artistes comme Dominique A ou Daniel Darc. Avant l’Heure émerge en 2019 à la suite d’une envie de partager un univers ambivalent : parfois dansant\, parfois contemplatif\, noyé sous les nappes de synthés et la distorsion d’une guitare qui fait écho aux années 90. Si l’Heure sonne la finalité\, Avant l’heure c’est une nostalgie : celle des danses sans fin\, des amours que l’on croise et des envies d’ailleurs. Durée : 30 min \n« Izmir Tavla » / Manon Champel\nAcousmonium (« orchestre » de haut-parleurs)\nIzmir Tavla est un plongeon dans l’inconnu qui raconte un autre plongeon dans l’inconnu. C’est une immersion sonore poussée par la curiosité de jouer avec le son\, sa texture\, sa provenance\, ses résonances. Un carnet de voyage électro acoustique dans lequel on se baigne pour découvrir des escales inattendues. Durée : 10 min  \n« Dense et silences » / Laura Martin\nVoici un terrain de jeu. Une expérimentation sonore où les percussions viennent se placer dans le silence\, résonnent et se font attendre. Une exploration où les rythmes sont autant d’agitations\, de tremblements\, de ricochets qui s’embrouillent et nous font danser\, puis trébucher. A mi-chemin entre paysages sonores et musiques improvisées\, Dense et silences fait cohabiter vide\, échos\, fourmillements et répétitions jusqu’à un joyeux vacarme. Durée : 30 min  \nEntrée gratuite – Réservation conseillée\nBuvette sur place
URL:https://pole9.fr/event/soiree-decouverte-musique/
LOCATION:Pôle 9 – MJC Centre Social\, 4 rue Sylvain Simondan\, Lyon\, 69009\, France
CATEGORIES:En famille,Gratuit
ATTACH;FMTTYPE=image/jpeg:https://pole9.fr/wp-content/uploads/2023/05/Acousmonium-Bucolique-1.jpg
END:VEVENT
END:VCALENDAR