BEGIN:VCALENDAR
VERSION:2.0
PRODID:-//Pôle 9 - ECPv6.5.1//NONSGML v1.0//EN
CALSCALE:GREGORIAN
METHOD:PUBLISH
X-ORIGINAL-URL:https://pole9.fr
X-WR-CALDESC:évènements pour Pôle 9
REFRESH-INTERVAL;VALUE=DURATION:PT1H
X-Robots-Tag:noindex
X-PUBLISHED-TTL:PT1H
BEGIN:VTIMEZONE

END:VTIMEZONE
BEGIN:VEVENT
DTSTART;TZID=Europe/Paris:20260421T142810
DTEND;TZID=Europe/Paris:20250709T000000
DTSTAMP:20260421T142810
CREATED:20250627T135300Z
LAST-MODIFIED:20250627T135300Z
UID:248459-0-1752019200@pole9.fr
SUMMARY:mercredi de l'été #1
DESCRIPTION:SPECTACLES ET INITIATION BMX – JORIS BRETAGNOLLES\nANIMATIONS SPORT\, NATURE\, INITIATION AUX ECHECS\, JEUX POUR TOUTE LA FAMILLE\nATELIER FRESQUE AVEC L’IMPRÉVISIBLE FABRIQUE\nPRÉVENTION SANTÉ SOLEIL\n21H MUSIQUE BRÉSILIENNE DIOGO CADAVAL\nbuvette et petite restauration sur place X autofinancement jeunes
URL:https://pole9.fr/event/mercredi-de-lete-1-2/
END:VEVENT
BEGIN:VEVENT
DTSTART;TZID=Europe/Paris:20230601T200000
DTEND;TZID=Europe/Paris:20230601T200000
DTSTAMP:20260421T142810
CREATED:20230517T141031Z
LAST-MODIFIED:20230517T141031Z
UID:246658-1685649600-1685649600@pole9.fr
SUMMARY:Conférence - Quel avenir pour nos systèmes alimentaires ? De l'international au quartier de Saint Rambert et sa ferme"
DESCRIPTION:“Les enjeux 2023 pour l’agriculture et l’alimentation en France et pour le quartier”\nSoirée proposée par le groupe de bénévoles “Rencontres – conférences” du Pôle 9 avec la participation de M. Simon Pascault\, jeune agriculteur. \nProgramme de la soirée\nVidéo « Qu’est-ce que bien manger ? » par Bruno Parmentier\nPrésentation des enjeux pour la France et le quartier par Jean-Paul Nobecourt\nPrésentation de la ferme Perraud par Simon Pascault : son projet et ses réponses aux enjeux actuels \nEntrée gratuite\nRéservation conseillée
URL:https://pole9.fr/event/conference-quel-avenir-pour-nos-systemes-alimentaires-de-linternational-au-quartier-de-saint-rambert-et-sa-ferme/
LOCATION:Pôle 9 – MJC Centre Social\, 4 rue Sylvain Simondan\, Lyon\, 69009\, France
CATEGORIES:Conférence,Gratuit
END:VEVENT
END:VCALENDAR