BEGIN:VCALENDAR
VERSION:2.0
PRODID:-//Pôle 9 - ECPv6.5.1//NONSGML v1.0//EN
CALSCALE:GREGORIAN
METHOD:PUBLISH
X-ORIGINAL-URL:https://pole9.fr
X-WR-CALDESC:évènements pour Pôle 9
REFRESH-INTERVAL;VALUE=DURATION:PT1H
X-Robots-Tag:noindex
X-PUBLISHED-TTL:PT1H
BEGIN:VTIMEZONE

END:VTIMEZONE
BEGIN:VEVENT
DTSTART;TZID=Europe/Paris:20260421T165604
DTEND;TZID=Europe/Paris:20250709T000000
DTSTAMP:20260421T165604
CREATED:20250627T135300Z
LAST-MODIFIED:20250627T135300Z
UID:248459-0-1752019200@pole9.fr
SUMMARY:mercredi de l'été #1
DESCRIPTION:SPECTACLES ET INITIATION BMX – JORIS BRETAGNOLLES\nANIMATIONS SPORT\, NATURE\, INITIATION AUX ECHECS\, JEUX POUR TOUTE LA FAMILLE\nATELIER FRESQUE AVEC L’IMPRÉVISIBLE FABRIQUE\nPRÉVENTION SANTÉ SOLEIL\n21H MUSIQUE BRÉSILIENNE DIOGO CADAVAL\nbuvette et petite restauration sur place X autofinancement jeunes
URL:https://pole9.fr/event/mercredi-de-lete-1-2/
END:VEVENT
BEGIN:VEVENT
DTSTART;TZID=Europe/Paris:20230424T090000
DTEND;TZID=Europe/Paris:20230515T183000
DTSTAMP:20260421T165604
CREATED:20230308T104712Z
LAST-MODIFIED:20230308T104816Z
UID:246459-1682326800-1684175400@pole9.fr
SUMMARY:Exposition - Brigitte CICLET : Vestiges Froissés
DESCRIPTION:Vernissage Jeudi 27 avril à partir de 19h \nAttirée par l’effet du temps sur les objets laissés à l’abandon\, l’évolution des couleurs\, l’usure et le bourgeonnement des matériaux\, je me suis mise à collectionner les canettes écrasées et rouillées repérées\, au hasard des rues et des chemins. Devenus inutiles\, ces objets jetés ne sont plus soumis qu’aux aléas de l’usure ordinaire ou extraordinaire. Je tire alors partie des découvertes fortuites et c’est sous mon regard de photographe\, que ces objets deviennent des sujets\, points de départ d’un renouveau\, déclencheurs pour l’imagination. \nCes canettes\, écrasées\, rouillées\, érodées\, je les ai observées\, triées\, photographiées\, puis mises en scène sur fond noir (une face ou un recto-verso)\, débarrassées de tout contexte\, comme des bijoux dans leur écrin. Dans un monde où le lisse\, le neuf et le brillant sont érigés en modèle\, je vous propose de regarder l’œuvre du temps\, qui en passant\, fait émerger et révèle des éclats inattendus. \nExposition du 24 avril au 15 mai \nEntrée libre 
URL:https://pole9.fr/event/exposition-brigitte-ciclet-vestiges-froisses/
LOCATION:Pôle 9 – MJC Centre Social\, 4 rue Sylvain Simondan\, Lyon\, 69009\, France
CATEGORIES:Exposition
ATTACH;FMTTYPE=image/jpeg:https://pole9.fr/wp-content/uploads/2023/03/Photo-2-Brigitte-Ciclet-expo-.jpg
END:VEVENT
BEGIN:VEVENT
DTSTART;TZID=Europe/Paris:20230427T190000
DTEND;TZID=Europe/Paris:20230427T210000
DTSTAMP:20260421T165604
CREATED:20230308T092221Z
LAST-MODIFIED:20230308T092221Z
UID:246434-1682622000-1682629200@pole9.fr
SUMMARY:Initiation & approfondissement Handpan
DESCRIPTION:Omar Zenati joue du handpan depuis 7 ans. Venez découvrir ou continuer de vous familiariser à cet instrument peu commun\, au son envoûtant. C’est avec passion qu’il vous transmettra l’histoire\, les techniques et le savoir-faire de cet instrument aux sonorités envoûtantes. Omar vous prêtera un instrument. \nA partir de 10 ans\, ados et adultes.  \nEntrée prix libre (5€ conseillé) mais réservation obligatoire
URL:https://pole9.fr/event/initiation-approfondissement-handpan-7/
LOCATION:Pôle 9 – MJC Centre Social\, 4 rue Sylvain Simondan\, Lyon\, 69009\, France
END:VEVENT
END:VCALENDAR