BEGIN:VCALENDAR
VERSION:2.0
PRODID:-//Pôle 9 - ECPv6.5.1//NONSGML v1.0//EN
CALSCALE:GREGORIAN
METHOD:PUBLISH
X-WR-CALNAME:Pôle 9
X-ORIGINAL-URL:https://pole9.fr
X-WR-CALDESC:évènements pour Pôle 9
REFRESH-INTERVAL;VALUE=DURATION:PT1H
X-Robots-Tag:noindex
X-PUBLISHED-TTL:PT1H
BEGIN:VTIMEZONE

END:VTIMEZONE
BEGIN:VEVENT
DTSTART;TZID=Europe/Paris:20260421T170133
DTEND;TZID=Europe/Paris:20250709T000000
DTSTAMP:20260421T170133
CREATED:20250627T135300Z
LAST-MODIFIED:20250627T135300Z
UID:248459-0-1752019200@pole9.fr
SUMMARY:mercredi de l'été #1
DESCRIPTION:SPECTACLES ET INITIATION BMX – JORIS BRETAGNOLLES\nANIMATIONS SPORT\, NATURE\, INITIATION AUX ECHECS\, JEUX POUR TOUTE LA FAMILLE\nATELIER FRESQUE AVEC L’IMPRÉVISIBLE FABRIQUE\nPRÉVENTION SANTÉ SOLEIL\n21H MUSIQUE BRÉSILIENNE DIOGO CADAVAL\nbuvette et petite restauration sur place X autofinancement jeunes
URL:https://pole9.fr/event/mercredi-de-lete-1-2/
END:VEVENT
BEGIN:VEVENT
DTSTART;TZID=Europe/Paris:20230424T090000
DTEND;TZID=Europe/Paris:20230515T183000
DTSTAMP:20260421T170133
CREATED:20230308T104712Z
LAST-MODIFIED:20230308T104816Z
UID:246459-1682326800-1684175400@pole9.fr
SUMMARY:Exposition - Brigitte CICLET : Vestiges Froissés
DESCRIPTION:Vernissage Jeudi 27 avril à partir de 19h \nAttirée par l’effet du temps sur les objets laissés à l’abandon\, l’évolution des couleurs\, l’usure et le bourgeonnement des matériaux\, je me suis mise à collectionner les canettes écrasées et rouillées repérées\, au hasard des rues et des chemins. Devenus inutiles\, ces objets jetés ne sont plus soumis qu’aux aléas de l’usure ordinaire ou extraordinaire. Je tire alors partie des découvertes fortuites et c’est sous mon regard de photographe\, que ces objets deviennent des sujets\, points de départ d’un renouveau\, déclencheurs pour l’imagination. \nCes canettes\, écrasées\, rouillées\, érodées\, je les ai observées\, triées\, photographiées\, puis mises en scène sur fond noir (une face ou un recto-verso)\, débarrassées de tout contexte\, comme des bijoux dans leur écrin. Dans un monde où le lisse\, le neuf et le brillant sont érigés en modèle\, je vous propose de regarder l’œuvre du temps\, qui en passant\, fait émerger et révèle des éclats inattendus. \nExposition du 24 avril au 15 mai \nEntrée libre 
URL:https://pole9.fr/event/exposition-brigitte-ciclet-vestiges-froisses/
LOCATION:Pôle 9 – MJC Centre Social\, 4 rue Sylvain Simondan\, Lyon\, 69009\, France
CATEGORIES:Exposition
ATTACH;FMTTYPE=image/jpeg:https://pole9.fr/wp-content/uploads/2023/03/Photo-2-Brigitte-Ciclet-expo-.jpg
END:VEVENT
BEGIN:VEVENT
DTSTART;TZID=Europe/Paris:20230426T100000
DTEND;TZID=Europe/Paris:20230426T120000
DTSTAMP:20260421T170133
CREATED:20230310T123852Z
LAST-MODIFIED:20230310T123852Z
UID:246499-1682503200-1682510400@pole9.fr
SUMMARY:Bulle de jeux 0/6 ans
DESCRIPTION:Durant les vacances de printemps\, l’équipe du Pôle 9 vous propose un espace jeux et détente destiné aux enfants de 0 à 6 ans. L’occasion pour les parents et les enfants de se réunir pour jouer en famille ou à plusieurs. \nGratuit et ouvert à toutes et tous.
URL:https://pole9.fr/event/bulle-de-jeux-0-6-ans-11/
LOCATION:L’Annexe du Pôle 9\, 27 rue Albert Falsan\, LYON\, 69009\, France
CATEGORIES:0/6 ans,Gratuit
END:VEVENT
BEGIN:VEVENT
DTSTART;TZID=Europe/Paris:20230426T160000
DTEND;TZID=Europe/Paris:20230426T160000
DTSTAMP:20260421T170133
CREATED:20230407T124542Z
LAST-MODIFIED:20230407T130822Z
UID:246583-1682524800-1682524800@pole9.fr
SUMMARY:LudoPôle 9 - Inauguration officielle !
DESCRIPTION:Après le succès grandissant des rendez-vous « Mikado » 1 fois par mois les mercredis après-midi\, le Pôle 9 agrandit ses offres de jeux avec un espace ludothèque ouvert en semaine ! \nMais pas seulement ! Nouveaux mercredis Mikado XXL\, prêt de jeux pour toutes et tous et des soirées jeux ponctuelles… Vous n’avez pas fini de jouer au Pôle 9\, en famille et entre amis ! \nVenez découvrir lors d’une après-midi festive et conviviale ce nouvel espace et service dédié à toute la famille !
URL:https://pole9.fr/event/ludopole-9-inauguration-officielle/
LOCATION:Pôle 9 – MJC Centre Social\, 4 rue Sylvain Simondan\, Lyon\, 69009\, France
CATEGORIES:En famille,évènement,Gratuit,jeux pour tous,ludothèque
END:VEVENT
END:VCALENDAR