BEGIN:VCALENDAR
VERSION:2.0
PRODID:-//Pôle 9 - ECPv6.5.1//NONSGML v1.0//EN
CALSCALE:GREGORIAN
METHOD:PUBLISH
X-ORIGINAL-URL:https://pole9.fr
X-WR-CALDESC:évènements pour Pôle 9
REFRESH-INTERVAL;VALUE=DURATION:PT1H
X-Robots-Tag:noindex
X-PUBLISHED-TTL:PT1H
BEGIN:VTIMEZONE

END:VTIMEZONE
BEGIN:VEVENT
DTSTART;TZID=Europe/Paris:20260421T170630
DTEND;TZID=Europe/Paris:20250709T000000
DTSTAMP:20260421T170630
CREATED:20250627T135300Z
LAST-MODIFIED:20250627T135300Z
UID:248459-0-1752019200@pole9.fr
SUMMARY:mercredi de l'été #1
DESCRIPTION:SPECTACLES ET INITIATION BMX – JORIS BRETAGNOLLES\nANIMATIONS SPORT\, NATURE\, INITIATION AUX ECHECS\, JEUX POUR TOUTE LA FAMILLE\nATELIER FRESQUE AVEC L’IMPRÉVISIBLE FABRIQUE\nPRÉVENTION SANTÉ SOLEIL\n21H MUSIQUE BRÉSILIENNE DIOGO CADAVAL\nbuvette et petite restauration sur place X autofinancement jeunes
URL:https://pole9.fr/event/mercredi-de-lete-1-2/
END:VEVENT
BEGIN:VEVENT
DTSTART;TZID=Europe/Paris:20230411T140000
DTEND;TZID=Europe/Paris:20230414T160000
DTSTAMP:20260421T170630
CREATED:20230308T090440Z
LAST-MODIFIED:20230308T090440Z
UID:246424-1681221600-1681488000@pole9.fr
SUMMARY:Stage théâtre 11/15 ans
DESCRIPTION:Animé par Mathilde Mariat\, comédienne au sein de la Cie Les rêves arrangés \nCe stage de théâtre est avant tout une aventure passionnante et collective. Nous avons pour objectif d’exprimer notre singularité au sein d’un groupe. A travers différents jeux on crée une cohésion sur la base de l’écoute\, la bienveillance et la sincérité. Durant la semaine on cherche à offrir pleinement notre créativité à travers le jeu\, les costumes et la construction de différents personnages. Grâce à un travail collectif chacun pourra prendre conscience de son potentiel créateur\, le tout couronné de rire et de plaisir. \nPour les 11-15 ans\, tous niveaux
URL:https://pole9.fr/event/stage-theatre-11-15-ans/
LOCATION:Pôle 9 – MJC Centre Social\, 4 rue Sylvain Simondan\, Lyon\, 69009\, France
CATEGORIES:Stages,Théâtre
END:VEVENT
BEGIN:VEVENT
DTSTART;TZID=Europe/Paris:20230412T093000
DTEND;TZID=Europe/Paris:20230412T173000
DTSTAMP:20260421T170630
CREATED:20230308T085951Z
LAST-MODIFIED:20230308T085951Z
UID:246422-1681291800-1681320600@pole9.fr
SUMMARY:Atelier Théâtre miniature 7/11 ans
DESCRIPTION:Animé par Aurélie\, animatrice Bidouilles et Magouilles \nDonne vie à un théâtre miniature à partir d’un bar à matériaux récupérés : des décors aux personnages\, il s’agira de laisser parler ta créativité et ton ingéniosité pour créer de véritables scènes mobiles à histoire à ramener chez toi en fin de journée. Tu possèdes des playmobils\, des legos\, ou tout autre petits personnages de jeux ? Alors viens avec eux pour adapter ton théâtre miniature à leur taille\, et découvrir les notions de proportions ! Tu peux aussi venir les mains vides\, et créer ces personnages de toute pièce ! Atelier pour bricoler\, créer\, raconter et réemployer toute la journée !  \nPrévoir un repas tiré du sac.
URL:https://pole9.fr/event/atelier-theatre-miniature-7-11-ans/
LOCATION:Pôle 9 – MJC Centre Social\, 4 rue Sylvain Simondan\, Lyon\, 69009\, France
END:VEVENT
BEGIN:VEVENT
DTSTART;TZID=Europe/Paris:20230412T180000
DTEND;TZID=Europe/Paris:20230412T200000
DTSTAMP:20260421T170630
CREATED:20230308T094248Z
LAST-MODIFIED:20230308T094437Z
UID:246446-1681322400-1681329600@pole9.fr
SUMMARY:Stage adultes de Yoga en musique avec du handpan
DESCRIPTION:Animé par Denise Janin\, professeure de Yoga et Omar Zenati\, joueur de handpan. \nAtelier de hatha Yoga accompagné par le son du Handpan\, instrument « vibratoire » aux sonorités relaxantes. \nAu programme : prise de conscience du corps et du souffle\, une série de postures réalisées sur le flow musical  du Handpan\, suivi d’une relaxation profonde en fin de séance.‌ \nAccessible à tous \nSur inscription au Pôle 9 
URL:https://pole9.fr/event/stage-adultes-de-yoga-en-musique-avec-du-handpan/
LOCATION:Salle Schönberg\, 1\, place Schönberg\, Lyon 69009
CATEGORIES:Stages
END:VEVENT
END:VCALENDAR