BEGIN:VCALENDAR
VERSION:2.0
PRODID:-//Pôle 9 - ECPv6.5.1//NONSGML v1.0//EN
CALSCALE:GREGORIAN
METHOD:PUBLISH
X-WR-CALNAME:Pôle 9
X-ORIGINAL-URL:https://pole9.fr
X-WR-CALDESC:évènements pour Pôle 9
REFRESH-INTERVAL;VALUE=DURATION:PT1H
X-Robots-Tag:noindex
X-PUBLISHED-TTL:PT1H
BEGIN:VTIMEZONE

END:VTIMEZONE
BEGIN:VEVENT
DTSTART;TZID=Europe/Paris:20260421T170508
DTEND;TZID=Europe/Paris:20250709T000000
DTSTAMP:20260421T170508
CREATED:20250627T135300Z
LAST-MODIFIED:20250627T135300Z
UID:248459-0-1752019200@pole9.fr
SUMMARY:mercredi de l'été #1
DESCRIPTION:SPECTACLES ET INITIATION BMX – JORIS BRETAGNOLLES\nANIMATIONS SPORT\, NATURE\, INITIATION AUX ECHECS\, JEUX POUR TOUTE LA FAMILLE\nATELIER FRESQUE AVEC L’IMPRÉVISIBLE FABRIQUE\nPRÉVENTION SANTÉ SOLEIL\n21H MUSIQUE BRÉSILIENNE DIOGO CADAVAL\nbuvette et petite restauration sur place X autofinancement jeunes
URL:https://pole9.fr/event/mercredi-de-lete-1-2/
END:VEVENT
BEGIN:VEVENT
DTSTART;TZID=Europe/Paris:20230411T140000
DTEND;TZID=Europe/Paris:20230414T160000
DTSTAMP:20260421T170508
CREATED:20230308T090440Z
LAST-MODIFIED:20230308T090440Z
UID:246424-1681221600-1681488000@pole9.fr
SUMMARY:Stage théâtre 11/15 ans
DESCRIPTION:Animé par Mathilde Mariat\, comédienne au sein de la Cie Les rêves arrangés \nCe stage de théâtre est avant tout une aventure passionnante et collective. Nous avons pour objectif d’exprimer notre singularité au sein d’un groupe. A travers différents jeux on crée une cohésion sur la base de l’écoute\, la bienveillance et la sincérité. Durant la semaine on cherche à offrir pleinement notre créativité à travers le jeu\, les costumes et la construction de différents personnages. Grâce à un travail collectif chacun pourra prendre conscience de son potentiel créateur\, le tout couronné de rire et de plaisir. \nPour les 11-15 ans\, tous niveaux
URL:https://pole9.fr/event/stage-theatre-11-15-ans/
LOCATION:Pôle 9 – MJC Centre Social\, 4 rue Sylvain Simondan\, Lyon\, 69009\, France
CATEGORIES:Stages,Théâtre
END:VEVENT
BEGIN:VEVENT
DTSTART;TZID=Europe/Paris:20230411T190000
DTEND;TZID=Europe/Paris:20230411T201500
DTSTAMP:20260421T170508
CREATED:20230308T093241Z
LAST-MODIFIED:20230308T093241Z
UID:246444-1681239600-1681244100@pole9.fr
SUMMARY:Stage découverte Tabata
DESCRIPTION:Animé par Dorian FERRAUTO\, coach sportif\, licence STAPS éducation et motricité \nEntraînement fractionné intense\, évolutif et adapté en fonction de votre forme physique\, accessible à toutes et tous.  \nA partir de 16 ans et adultes.
URL:https://pole9.fr/event/stage-decouverte-tabata/
LOCATION:Pôle 9 – MJC Centre Social\, 4 rue Sylvain Simondan\, Lyon\, 69009\, France
CATEGORIES:Stages
END:VEVENT
BEGIN:VEVENT
DTSTART;TZID=Europe/Paris:20230411T210000
DTEND;TZID=Europe/Paris:20230411T210000
DTSTAMP:20260421T170508
CREATED:20230308T140241Z
LAST-MODIFIED:20230405T091425Z
UID:246479-1681246800-1681246800@pole9.fr
SUMMARY:Soirée contes des milles et une nuits et pâtisseries
DESCRIPTION:Venez vous plonger dans l’univers des milles et une nuits avec la conteuse Lila Khaled puis partageons ensemble quelques pâtisseries orientales \nGratuit et ouvert à toutes et tous\, pensez à ramener un plat à partager sucré !
URL:https://pole9.fr/event/soiree-repas-partage-et-contes-des-milles-et-une-nuits/
LOCATION:La Chaufferie du Vergoin\, 7 rue Albert Falsan\, Lyon\, 69009\, France
CATEGORIES:Contes,En famille,Gratuit,Tout public
END:VEVENT
END:VCALENDAR