BEGIN:VCALENDAR
VERSION:2.0
PRODID:-//Pôle 9 - ECPv6.5.1//NONSGML v1.0//EN
CALSCALE:GREGORIAN
METHOD:PUBLISH
X-WR-CALNAME:Pôle 9
X-ORIGINAL-URL:https://pole9.fr
X-WR-CALDESC:évènements pour Pôle 9
REFRESH-INTERVAL;VALUE=DURATION:PT1H
X-Robots-Tag:noindex
X-PUBLISHED-TTL:PT1H
BEGIN:VTIMEZONE

END:VTIMEZONE
BEGIN:VEVENT
DTSTART;TZID=Europe/Paris:20260421T170134
DTEND;TZID=Europe/Paris:20250709T000000
DTSTAMP:20260421T170134
CREATED:20250627T135300Z
LAST-MODIFIED:20250627T135300Z
UID:248459-0-1752019200@pole9.fr
SUMMARY:mercredi de l'été #1
DESCRIPTION:SPECTACLES ET INITIATION BMX – JORIS BRETAGNOLLES\nANIMATIONS SPORT\, NATURE\, INITIATION AUX ECHECS\, JEUX POUR TOUTE LA FAMILLE\nATELIER FRESQUE AVEC L’IMPRÉVISIBLE FABRIQUE\nPRÉVENTION SANTÉ SOLEIL\n21H MUSIQUE BRÉSILIENNE DIOGO CADAVAL\nbuvette et petite restauration sur place X autofinancement jeunes
URL:https://pole9.fr/event/mercredi-de-lete-1-2/
END:VEVENT
BEGIN:VEVENT
DTSTART;TZID=Europe/Paris:20230401T090000
DTEND;TZID=Europe/Paris:20230401T160000
DTSTAMP:20260421T170134
CREATED:20230308T104009Z
LAST-MODIFIED:20230308T134149Z
UID:246456-1680339600-1680364800@pole9.fr
SUMMARY:Bourse aux vêtements enfants/objets de puériculture
DESCRIPTION:Elle est de retour ! Comme chaque année le Pôle 9 organise sa bourse du printemps\, divers objets et vêtements pour enfants sont mis en vente durant deux journées. En partenariat avec l’association St Rambert solidarité. \nPossibilité de mettre en vente vos vêtements ou objets\, contactez l’accueil pour connaître la marche à suivre. \nGratuit et ouvert à tous
URL:https://pole9.fr/event/bourse-aux-vetements-enfants-objets-de-puericulture-2/
LOCATION:Pôle 9 – MJC Centre Social\, 4 rue Sylvain Simondan\, Lyon\, 69009\, France
CATEGORIES:Bourse
ATTACH;FMTTYPE=image/jpeg:https://pole9.fr/wp-content/uploads/2023/03/boursejouetsjpg.jpg
END:VEVENT
END:VCALENDAR