BEGIN:VCALENDAR
VERSION:2.0
PRODID:-//Pôle 9 - ECPv6.5.1//NONSGML v1.0//EN
CALSCALE:GREGORIAN
METHOD:PUBLISH
X-WR-CALNAME:Pôle 9
X-ORIGINAL-URL:https://pole9.fr
X-WR-CALDESC:évènements pour Pôle 9
REFRESH-INTERVAL;VALUE=DURATION:PT1H
X-Robots-Tag:noindex
X-PUBLISHED-TTL:PT1H
BEGIN:VTIMEZONE

END:VTIMEZONE
BEGIN:VEVENT
DTSTART;TZID=Europe/Paris:20260421T183131
DTEND;TZID=Europe/Paris:20250709T000000
DTSTAMP:20260421T183131
CREATED:20250627T135300Z
LAST-MODIFIED:20250627T135300Z
UID:248459-0-1752019200@pole9.fr
SUMMARY:mercredi de l'été #1
DESCRIPTION:SPECTACLES ET INITIATION BMX – JORIS BRETAGNOLLES\nANIMATIONS SPORT\, NATURE\, INITIATION AUX ECHECS\, JEUX POUR TOUTE LA FAMILLE\nATELIER FRESQUE AVEC L’IMPRÉVISIBLE FABRIQUE\nPRÉVENTION SANTÉ SOLEIL\n21H MUSIQUE BRÉSILIENNE DIOGO CADAVAL\nbuvette et petite restauration sur place X autofinancement jeunes
URL:https://pole9.fr/event/mercredi-de-lete-1-2/
END:VEVENT
BEGIN:VEVENT
DTSTART;TZID=Europe/Paris:20230322T093000
DTEND;TZID=Europe/Paris:20230322T113000
DTSTAMP:20260421T183131
CREATED:20230308T085158Z
LAST-MODIFIED:20230308T085158Z
UID:246418-1679477400-1679484600@pole9.fr
SUMMARY:Stage Terre - thème "les animaux"
DESCRIPTION:Avec l’animatrice Nathalie Guyot\, découvrez une activité créative et apaisante\, aux multiples possibilités\, décoratives ou utilitaires. \nEnfant à partir de 6 ans\, ados\, adultes \nCoût du stage pour une personne = 15€\, si binôme (parent-enfant) = 25€ le duo
URL:https://pole9.fr/event/stage-terre-theme-les-animaux/
LOCATION:Pôle 9 – MJC Centre Social\, 4 rue Sylvain Simondan\, Lyon\, 69009\, France
CATEGORIES:dès 6 ans,Stages
END:VEVENT
END:VCALENDAR