BEGIN:VCALENDAR
VERSION:2.0
PRODID:-//Pôle 9 - ECPv6.5.1//NONSGML v1.0//EN
CALSCALE:GREGORIAN
METHOD:PUBLISH
X-WR-CALNAME:Pôle 9
X-ORIGINAL-URL:https://pole9.fr
X-WR-CALDESC:évènements pour Pôle 9
REFRESH-INTERVAL;VALUE=DURATION:PT1H
X-Robots-Tag:noindex
X-PUBLISHED-TTL:PT1H
BEGIN:VTIMEZONE

END:VTIMEZONE
BEGIN:VEVENT
DTSTART;TZID=Europe/Paris:20260421T182715
DTEND;TZID=Europe/Paris:20250709T000000
DTSTAMP:20260421T182715
CREATED:20250627T135300Z
LAST-MODIFIED:20250627T135300Z
UID:248459-0-1752019200@pole9.fr
SUMMARY:mercredi de l'été #1
DESCRIPTION:SPECTACLES ET INITIATION BMX – JORIS BRETAGNOLLES\nANIMATIONS SPORT\, NATURE\, INITIATION AUX ECHECS\, JEUX POUR TOUTE LA FAMILLE\nATELIER FRESQUE AVEC L’IMPRÉVISIBLE FABRIQUE\nPRÉVENTION SANTÉ SOLEIL\n21H MUSIQUE BRÉSILIENNE DIOGO CADAVAL\nbuvette et petite restauration sur place X autofinancement jeunes
URL:https://pole9.fr/event/mercredi-de-lete-1-2/
END:VEVENT
BEGIN:VEVENT
DTSTART;TZID=Europe/Paris:20230321T180000
DTEND;TZID=Europe/Paris:20230321T184500
DTSTAMP:20260421T182715
CREATED:20230308T155942Z
LAST-MODIFIED:20230321T132246Z
UID:246489-1679421600-1679424300@pole9.fr
SUMMARY:Ciné en famille "Drôles d'oiseaux"
DESCRIPTION:Ellie\, dix ans et demi\, entre en sixième à Saumur. Timide et passionnée par la nature\, elle passe son temps plongée dans des livres\, en particulier d’ornithologie. Elle intrigue Anna\, la documentaliste du collège\, une femme mystérieuse avec qui elle tisse une relation pleine de malice. Le jour où Ellie doit absolument lui rendre un livre\, la porte du CDI est fermée. Ellie décide alors de le ramener directement chez Anna qui vit sur une île sur la Loire\, à quelques kilomètres du collège. Une île pleine d’oiseaux.\nTarif : 2 euros par personne\nTout public à partir de 6 ans – Durée : 34 minutes \nRéservation conseillée à l’accueil du Pôle 9
URL:https://pole9.fr/event/cine-en-famille-droles-doiseaux/
LOCATION:Pôle 9 – MJC Centre Social\, 4 rue Sylvain Simondan\, Lyon\, 69009\, France
CATEGORIES:Cinéma,dès 6 ans,En famille
END:VEVENT
END:VCALENDAR