BEGIN:VCALENDAR
VERSION:2.0
PRODID:-//Pôle 9 - ECPv6.5.1//NONSGML v1.0//EN
CALSCALE:GREGORIAN
METHOD:PUBLISH
X-ORIGINAL-URL:https://pole9.fr
X-WR-CALDESC:évènements pour Pôle 9
REFRESH-INTERVAL;VALUE=DURATION:PT1H
X-Robots-Tag:noindex
X-PUBLISHED-TTL:PT1H
BEGIN:VTIMEZONE

END:VTIMEZONE
BEGIN:VEVENT
DTSTART;TZID=Europe/Paris:20260421T183319
DTEND;TZID=Europe/Paris:20250709T000000
DTSTAMP:20260421T183319
CREATED:20250627T135300Z
LAST-MODIFIED:20250627T135300Z
UID:248459-0-1752019200@pole9.fr
SUMMARY:mercredi de l'été #1
DESCRIPTION:SPECTACLES ET INITIATION BMX – JORIS BRETAGNOLLES\nANIMATIONS SPORT\, NATURE\, INITIATION AUX ECHECS\, JEUX POUR TOUTE LA FAMILLE\nATELIER FRESQUE AVEC L’IMPRÉVISIBLE FABRIQUE\nPRÉVENTION SANTÉ SOLEIL\n21H MUSIQUE BRÉSILIENNE DIOGO CADAVAL\nbuvette et petite restauration sur place X autofinancement jeunes
URL:https://pole9.fr/event/mercredi-de-lete-1-2/
END:VEVENT
BEGIN:VEVENT
DTSTART;TZID=Europe/Paris:20230311T180000
DTEND;TZID=Europe/Paris:20230311T193000
DTSTAMP:20260421T183319
CREATED:20230307T114127Z
LAST-MODIFIED:20230307T114127Z
UID:246402-1678557600-1678563000@pole9.fr
SUMMARY:Impro : Venez jouer avec nous ! 
DESCRIPTION:BONUS avant-spectacle de 18h à 19h30\nAtelier échauffement découverte avec les comédiens de 18h à 19h30\nOuvert à tous\, gratuit\, sur inscription\nSuivi d’un apéro à grignoter pour les participants à l’atelier
URL:https://pole9.fr/event/impro-venez-jouer-avec-nous/
LOCATION:Pôle 9 – MJC Centre Social\, 4 rue Sylvain Simondan\, Lyon\, 69009\, France
END:VEVENT
BEGIN:VEVENT
DTSTART;TZID=Europe/Paris:20230311T203000
DTEND;TZID=Europe/Paris:20230311T220000
DTSTAMP:20260421T183319
CREATED:20230307T110605Z
LAST-MODIFIED:20230307T110605Z
UID:246395-1678566600-1678572000@pole9.fr
SUMMARY:Soirée Théâtre d'impro
DESCRIPTION:Nouveau rendez-vous proposé par la Compagnie des Chaussettes Trouées avec cette soirée « Envoyez les chaussettes dans le décor ».\nA vivre en famille pour le meilleur et pour le rire.\nBuvette sur place\nPrix Libre\, réservation conseillée
URL:https://pole9.fr/event/soiree-theatre-dimpro/
LOCATION:Pôle 9 – MJC Centre Social\, 4 rue Sylvain Simondan\, Lyon\, 69009\, France
CATEGORIES:En famille
END:VEVENT
END:VCALENDAR