BEGIN:VCALENDAR
VERSION:2.0
PRODID:-//Pôle 9 - ECPv6.5.1//NONSGML v1.0//EN
CALSCALE:GREGORIAN
METHOD:PUBLISH
X-ORIGINAL-URL:https://pole9.fr
X-WR-CALDESC:évènements pour Pôle 9
REFRESH-INTERVAL;VALUE=DURATION:PT1H
X-Robots-Tag:noindex
X-PUBLISHED-TTL:PT1H
BEGIN:VTIMEZONE

END:VTIMEZONE
BEGIN:VEVENT
DTSTART;TZID=Europe/Paris:20260421T211232
DTEND;TZID=Europe/Paris:20250709T000000
DTSTAMP:20260421T211232
CREATED:20250627T135300Z
LAST-MODIFIED:20250627T135300Z
UID:248459-0-1752019200@pole9.fr
SUMMARY:mercredi de l'été #1
DESCRIPTION:SPECTACLES ET INITIATION BMX – JORIS BRETAGNOLLES\nANIMATIONS SPORT\, NATURE\, INITIATION AUX ECHECS\, JEUX POUR TOUTE LA FAMILLE\nATELIER FRESQUE AVEC L’IMPRÉVISIBLE FABRIQUE\nPRÉVENTION SANTÉ SOLEIL\n21H MUSIQUE BRÉSILIENNE DIOGO CADAVAL\nbuvette et petite restauration sur place X autofinancement jeunes
URL:https://pole9.fr/event/mercredi-de-lete-1-2/
END:VEVENT
BEGIN:VEVENT
DTSTART;TZID=Europe/Paris:20230105T090000
DTEND;TZID=Europe/Paris:20230126T183000
DTSTAMP:20260421T211232
CREATED:20221222T104335Z
LAST-MODIFIED:20221222T154402Z
UID:246222-1672909200-1674757800@pole9.fr
SUMMARY:Exposition / Peinture - Loïc Suzat
DESCRIPTION:Artiste peintre au grand cœur\, plein d’humour et de cordes à son arc\, Loïc peint la vie pour décrire un monde meilleur\, plus coloré. \nVernissage jeudi 5 janvier à partir de 14h. \nGratuit
URL:https://pole9.fr/event/exposition-peinture-loic-suzat/
LOCATION:Pôle 9 – MJC Centre Social\, 4 rue Sylvain Simondan\, Lyon\, 69009\, France
CATEGORIES:Exposition
END:VEVENT
BEGIN:VEVENT
DTSTART;TZID=Europe/Paris:20230124T180000
DTEND;TZID=Europe/Paris:20230124T180000
DTSTAMP:20260421T211232
CREATED:20221222T112206Z
LAST-MODIFIED:20221222T112206Z
UID:246251-1674583200-1674583200@pole9.fr
SUMMARY:Contes à la Chaufferie
DESCRIPTION:C’est un rendez-vous pour toutes les générations pour se retrouver au chaud autour d’une histoire qui transporte dans le fantastique\, l’illusion\, l’irréel\, l’inconscient et donne le temps d’écouter\, de voyager\, d’aimer\, de se balader\, ou de veiller…\nRDV une fois par mois cet hiver\, seul\, entre amis ou en famille dès 5 ans \nDurée 45 minutes – Gratuit \nLocal associatif du Vergoin – La Chaufferie – 7 rue Albert Falsan\, lyon 9
URL:https://pole9.fr/event/contes-a-la-chaufferie-2/
LOCATION:La Chaufferie du Vergoin\, 7 rue Albert Falsan\, Lyon\, 69009\, France
CATEGORIES:Contes,En famille,Gratuit
END:VEVENT
END:VCALENDAR