BEGIN:VCALENDAR
VERSION:2.0
PRODID:-//Pôle 9 - ECPv6.5.1//NONSGML v1.0//EN
CALSCALE:GREGORIAN
METHOD:PUBLISH
X-WR-CALNAME:Pôle 9
X-ORIGINAL-URL:https://pole9.fr
X-WR-CALDESC:évènements pour Pôle 9
REFRESH-INTERVAL;VALUE=DURATION:PT1H
X-Robots-Tag:noindex
X-PUBLISHED-TTL:PT1H
BEGIN:VTIMEZONE

END:VTIMEZONE
BEGIN:VEVENT
DTSTART;TZID=Europe/Paris:20260421T211632
DTEND;TZID=Europe/Paris:20250709T000000
DTSTAMP:20260421T211632
CREATED:20250627T135300Z
LAST-MODIFIED:20250627T135300Z
UID:248459-0-1752019200@pole9.fr
SUMMARY:mercredi de l'été #1
DESCRIPTION:SPECTACLES ET INITIATION BMX – JORIS BRETAGNOLLES\nANIMATIONS SPORT\, NATURE\, INITIATION AUX ECHECS\, JEUX POUR TOUTE LA FAMILLE\nATELIER FRESQUE AVEC L’IMPRÉVISIBLE FABRIQUE\nPRÉVENTION SANTÉ SOLEIL\n21H MUSIQUE BRÉSILIENNE DIOGO CADAVAL\nbuvette et petite restauration sur place X autofinancement jeunes
URL:https://pole9.fr/event/mercredi-de-lete-1-2/
END:VEVENT
BEGIN:VEVENT
DTSTART;TZID=Europe/Paris:20230105T090000
DTEND;TZID=Europe/Paris:20230126T183000
DTSTAMP:20260421T211632
CREATED:20221222T104335Z
LAST-MODIFIED:20221222T154402Z
UID:246222-1672909200-1674757800@pole9.fr
SUMMARY:Exposition / Peinture - Loïc Suzat
DESCRIPTION:Artiste peintre au grand cœur\, plein d’humour et de cordes à son arc\, Loïc peint la vie pour décrire un monde meilleur\, plus coloré. \nVernissage jeudi 5 janvier à partir de 14h. \nGratuit
URL:https://pole9.fr/event/exposition-peinture-loic-suzat/
LOCATION:Pôle 9 – MJC Centre Social\, 4 rue Sylvain Simondan\, Lyon\, 69009\, France
CATEGORIES:Exposition
END:VEVENT
BEGIN:VEVENT
DTSTART;TZID=Europe/Paris:20230121T074500
DTEND;TZID=Europe/Paris:20230121T074500
DTSTAMP:20260421T211632
CREATED:20221222T150429Z
LAST-MODIFIED:20221222T150735Z
UID:246276-1674287100-1674287100@pole9.fr
SUMMARY:Sortie familiale neige et luges - Alpes du Grand Serre
DESCRIPTION:Profitez à petits prix des joies de la neige en famille ! \nTransport en bus depuis St Rambert & Vaise Rochecardon – A partir de 3 ans \nTarifs en fonction du quotient familial : Enfant de 3 € à 8\,5 € – Adulte de 4 € à 10 € \nPlus d’information et inscription à l’accueil du Pôle 9
URL:https://pole9.fr/event/sortie-familiale-neige-et-luges-alpes-du-grand-serre/
CATEGORIES:Sortie familiale à la neige
END:VEVENT
BEGIN:VEVENT
DTSTART;TZID=Europe/Paris:20230121T100000
DTEND;TZID=Europe/Paris:20230121T110000
DTSTAMP:20260421T211632
CREATED:20221222T151006Z
LAST-MODIFIED:20221222T151006Z
UID:246280-1674295200-1674298800@pole9.fr
SUMMARY:Atelier parent/enfant en duo
DESCRIPTION:Animé par Léah MAKHLOUF – créatrice de la Fabrique des petits artistes \n15€ par duo enfant / parent – à partir de 19 mois \nPlaces limitées – fratries acceptées \nInscription par mail : lafabriquedespetitsartistes@gmail.com ou par téléphone au 06 68 93 01 98
URL:https://pole9.fr/event/atelier-parent-enfant-en-duo/
LOCATION:Pôle 9 – MJC Centre Social\, 4 rue Sylvain Simondan\, Lyon\, 69009\, France
CATEGORIES:Atelier parents/enfants
END:VEVENT
BEGIN:VEVENT
DTSTART;TZID=Europe/Paris:20230121T100000
DTEND;TZID=Europe/Paris:20230121T120000
DTSTAMP:20260421T211632
CREATED:20221222T151636Z
LAST-MODIFIED:20221222T151636Z
UID:246286-1674295200-1674302400@pole9.fr
SUMMARY:Initiation / approfondissement Handpan
DESCRIPTION:Omar Zenati joue du handpan depuis 7 ans. Venez découvrir ou continuer de vous familiariser à cet instrument peu commun. C’est avec passion qu’il vous transmettra l’histoire\, les techniques et le savoir-faire de cet instrument aux sonorités envoûtantes. Omar vous prêtera un instrument. \nA partir de 10 ans\, ados et adultes.  \nEntrée prix libre (5€ conseillé) mais réservation auparavant à l’accueil du Pôle 9
URL:https://pole9.fr/event/initiation-approfondissement-handpan-2/
LOCATION:Pôle 9 – MJC Centre Social\, 4 rue Sylvain Simondan\, Lyon\, 69009\, France
ATTACH;FMTTYPE=image/png:https://pole9.fr/wp-content/uploads/2022/10/handpan.png
END:VEVENT
BEGIN:VEVENT
DTSTART;TZID=Europe/Paris:20230121T140000
DTEND;TZID=Europe/Paris:20230121T170000
DTSTAMP:20260421T211632
CREATED:20221222T103750Z
LAST-MODIFIED:20221222T103750Z
UID:246218-1674309600-1674320400@pole9.fr
SUMMARY:Stage - Atelier de danse africaine
DESCRIPTION:Danse traditionnelle du Congo – Animé par Yvon Serge Bissadissi\, accompagné aux percussions en live par Giorgio Gbétie.\nÉnergie\, partage\, convivialité.\nTous niveaux.\nA partir de 14 ans / adultes\n30€ par atelier\, sur inscriptions au Pôle 9
URL:https://pole9.fr/event/stage-atelier-de-danse-africaine/
LOCATION:Pôle 9 – MJC Centre Social\, 4 rue Sylvain Simondan\, Lyon\, 69009\, France
CATEGORIES:Danse,Stages
END:VEVENT
END:VCALENDAR