BEGIN:VCALENDAR
VERSION:2.0
PRODID:-//Pôle 9 - ECPv6.5.1//NONSGML v1.0//EN
CALSCALE:GREGORIAN
METHOD:PUBLISH
X-ORIGINAL-URL:https://pole9.fr
X-WR-CALDESC:évènements pour Pôle 9
REFRESH-INTERVAL;VALUE=DURATION:PT1H
X-Robots-Tag:noindex
X-PUBLISHED-TTL:PT1H
BEGIN:VTIMEZONE

END:VTIMEZONE
BEGIN:VEVENT
DTSTART;TZID=Europe/Paris:20260421T211724
DTEND;TZID=Europe/Paris:20250709T000000
DTSTAMP:20260421T211724
CREATED:20250627T135300Z
LAST-MODIFIED:20250627T135300Z
UID:248459-0-1752019200@pole9.fr
SUMMARY:mercredi de l'été #1
DESCRIPTION:SPECTACLES ET INITIATION BMX – JORIS BRETAGNOLLES\nANIMATIONS SPORT\, NATURE\, INITIATION AUX ECHECS\, JEUX POUR TOUTE LA FAMILLE\nATELIER FRESQUE AVEC L’IMPRÉVISIBLE FABRIQUE\nPRÉVENTION SANTÉ SOLEIL\n21H MUSIQUE BRÉSILIENNE DIOGO CADAVAL\nbuvette et petite restauration sur place X autofinancement jeunes
URL:https://pole9.fr/event/mercredi-de-lete-1-2/
END:VEVENT
BEGIN:VEVENT
DTSTART;TZID=Europe/Paris:20230105T090000
DTEND;TZID=Europe/Paris:20230126T183000
DTSTAMP:20260421T211724
CREATED:20221222T104335Z
LAST-MODIFIED:20221222T154402Z
UID:246222-1672909200-1674757800@pole9.fr
SUMMARY:Exposition / Peinture - Loïc Suzat
DESCRIPTION:Artiste peintre au grand cœur\, plein d’humour et de cordes à son arc\, Loïc peint la vie pour décrire un monde meilleur\, plus coloré. \nVernissage jeudi 5 janvier à partir de 14h. \nGratuit
URL:https://pole9.fr/event/exposition-peinture-loic-suzat/
LOCATION:Pôle 9 – MJC Centre Social\, 4 rue Sylvain Simondan\, Lyon\, 69009\, France
CATEGORIES:Exposition
END:VEVENT
BEGIN:VEVENT
DTSTART;TZID=Europe/Paris:20230113T201500
DTEND;TZID=Europe/Paris:20230113T201500
DTSTAMP:20260421T211724
CREATED:20221222T102228Z
LAST-MODIFIED:20221222T154937Z
UID:246210-1673640900-1673640900@pole9.fr
SUMMARY:Théâtre d’improvisation - "100% des chaussettes ont tenté leur chance"
DESCRIPTION:C’est l’heure d’un nouveau rendez-vous proposé par la compagnie de théâtre d’impro en résidence au Pôle 9\, Les Chaussettes Trouées ! Venez profiter d’un moment de pure détente en famille avec un nouveau spectacle. Venez vous engager avec eux pour le meilleur et pour le rire ! \nRéservation conseillée – Entrée Prix libre
URL:https://pole9.fr/event/theatre-dimprovisation-100-des-chaussettes-ont-tente-leur-chance/
LOCATION:Pôle 9 – MJC Centre Social\, 4 rue Sylvain Simondan\, Lyon\, 69009\, France
CATEGORIES:En famille,Spectacle,Théâtre,Tout public
END:VEVENT
END:VCALENDAR