BEGIN:VCALENDAR
VERSION:2.0
PRODID:-//Pôle 9 - ECPv6.5.1//NONSGML v1.0//EN
CALSCALE:GREGORIAN
METHOD:PUBLISH
X-WR-CALNAME:Pôle 9
X-ORIGINAL-URL:https://pole9.fr
X-WR-CALDESC:évènements pour Pôle 9
REFRESH-INTERVAL;VALUE=DURATION:PT1H
X-Robots-Tag:noindex
X-PUBLISHED-TTL:PT1H
BEGIN:VTIMEZONE

END:VTIMEZONE
BEGIN:VEVENT
DTSTART;TZID=Europe/Paris:20260421T235223
DTEND;TZID=Europe/Paris:20250709T000000
DTSTAMP:20260421T235223
CREATED:20250627T135300Z
LAST-MODIFIED:20250627T135300Z
UID:248459-0-1752019200@pole9.fr
SUMMARY:mercredi de l'été #1
DESCRIPTION:SPECTACLES ET INITIATION BMX – JORIS BRETAGNOLLES\nANIMATIONS SPORT\, NATURE\, INITIATION AUX ECHECS\, JEUX POUR TOUTE LA FAMILLE\nATELIER FRESQUE AVEC L’IMPRÉVISIBLE FABRIQUE\nPRÉVENTION SANTÉ SOLEIL\n21H MUSIQUE BRÉSILIENNE DIOGO CADAVAL\nbuvette et petite restauration sur place X autofinancement jeunes
URL:https://pole9.fr/event/mercredi-de-lete-1-2/
END:VEVENT
BEGIN:VEVENT
DTSTART;TZID=Europe/Paris:20221119T100000
DTEND;TZID=Europe/Paris:20221119T120000
DTSTAMP:20260421T235223
CREATED:20221031T090125Z
LAST-MODIFIED:20221031T090125Z
UID:246151-1668852000-1668859200@pole9.fr
SUMMARY:Stage de Handpan
DESCRIPTION:Omar Zenati joue du handpan depuis 7 ans. Venez découvrir ou continuer de vous familiariser à cet instrument peu commun\, au son envoûtant.\nA partir de 10 ans\, ados et adultes.\nEntrée prix libre (5€ conseillé) sur réservation à l’accueil
URL:https://pole9.fr/event/stage-de-handpan-2/
LOCATION:Pôle 9 – MJC Centre Social\, 4 rue Sylvain Simondan\, Lyon\, 69009\, France
CATEGORIES:Stages,Tout public
ATTACH;FMTTYPE=image/png:https://pole9.fr/wp-content/uploads/2022/10/handpan.png
END:VEVENT
BEGIN:VEVENT
DTSTART;TZID=Europe/Paris:20221119T140000
DTEND;TZID=Europe/Paris:20221119T170000
DTSTAMP:20260421T235223
CREATED:20221031T090507Z
LAST-MODIFIED:20221031T090507Z
UID:246153-1668866400-1668877200@pole9.fr
SUMMARY:Stage de Danse Africaine
DESCRIPTION:Animé par Yvon Serge Bissadissi\, accompagné aux percussions en live par Giorgio Gbétie.\nÉnergie\, partage\, convivialité.\nTous niveaux.\nA partir de 16 ans / adultes \n30€ par stage\, sur inscriptions au Pôle 9 
URL:https://pole9.fr/event/stage-de-danse-africaine-2/
LOCATION:Pôle 9 – MJC Centre Social\, 4 rue Sylvain Simondan\, Lyon\, 69009\, France
CATEGORIES:Danse,Stages
ATTACH;FMTTYPE=image/png:https://pole9.fr/wp-content/uploads/2022/10/danseafricaine.png
END:VEVENT
END:VCALENDAR