BEGIN:VCALENDAR
VERSION:2.0
PRODID:-//Pôle 9 - ECPv6.5.1//NONSGML v1.0//EN
CALSCALE:GREGORIAN
METHOD:PUBLISH
X-ORIGINAL-URL:https://pole9.fr
X-WR-CALDESC:évènements pour Pôle 9
REFRESH-INTERVAL;VALUE=DURATION:PT1H
X-Robots-Tag:noindex
X-PUBLISHED-TTL:PT1H
BEGIN:VTIMEZONE

END:VTIMEZONE
BEGIN:VEVENT
DTSTART;TZID=Europe/Paris:20260421T235339
DTEND;TZID=Europe/Paris:20250709T000000
DTSTAMP:20260421T235339
CREATED:20250627T135300Z
LAST-MODIFIED:20250627T135300Z
UID:248459-0-1752019200@pole9.fr
SUMMARY:mercredi de l'été #1
DESCRIPTION:SPECTACLES ET INITIATION BMX – JORIS BRETAGNOLLES\nANIMATIONS SPORT\, NATURE\, INITIATION AUX ECHECS\, JEUX POUR TOUTE LA FAMILLE\nATELIER FRESQUE AVEC L’IMPRÉVISIBLE FABRIQUE\nPRÉVENTION SANTÉ SOLEIL\n21H MUSIQUE BRÉSILIENNE DIOGO CADAVAL\nbuvette et petite restauration sur place X autofinancement jeunes
URL:https://pole9.fr/event/mercredi-de-lete-1-2/
END:VEVENT
BEGIN:VEVENT
DTSTART;TZID=Europe/Paris:20221107T193000
DTEND;TZID=Europe/Paris:20221107T210000
DTSTAMP:20260421T235339
CREATED:20221024T102000Z
LAST-MODIFIED:20221024T102000Z
UID:246129-1667849400-1667854800@pole9.fr
SUMMARY:Parent'aise - partage d'expériences entre parents
DESCRIPTION:Il s’agit d’un temps de rencontre entre parents âgés de 0 à 11 ans\, animé par une conseillère parentale afin de prendre du recul\, de partager ses expériences et de mieux comprendre son enfant.\nLa thématique abordée est « Comprendre le développement de mon enfant pour mieux accompagner ses émotions”.\nGratuit -Sur inscription à l’accueil 
URL:https://pole9.fr/event/parentaise-partage-dexperiences-entre-parents-4/
LOCATION:Pôle 9 – MJC Centre Social\, 4 rue Sylvain Simondan\, Lyon\, 69009\, France
CATEGORIES:parentalité,Partage d'expérience
ATTACH;FMTTYPE=image/jpeg:https://pole9.fr/wp-content/uploads/2022/10/Parentalite-2.jpg
END:VEVENT
END:VCALENDAR