BEGIN:VCALENDAR
VERSION:2.0
PRODID:-//Pôle 9 - ECPv6.5.1//NONSGML v1.0//EN
CALSCALE:GREGORIAN
METHOD:PUBLISH
X-WR-CALNAME:Pôle 9
X-ORIGINAL-URL:https://pole9.fr
X-WR-CALDESC:évènements pour Pôle 9
REFRESH-INTERVAL;VALUE=DURATION:PT1H
X-Robots-Tag:noindex
X-PUBLISHED-TTL:PT1H
BEGIN:VTIMEZONE

END:VTIMEZONE
BEGIN:VEVENT
DTSTART;TZID=Europe/Paris:20260422T011802
DTEND;TZID=Europe/Paris:20250709T000000
DTSTAMP:20260422T011802
CREATED:20250627T135300Z
LAST-MODIFIED:20250627T135300Z
UID:248459-0-1752019200@pole9.fr
SUMMARY:mercredi de l'été #1
DESCRIPTION:SPECTACLES ET INITIATION BMX – JORIS BRETAGNOLLES\nANIMATIONS SPORT\, NATURE\, INITIATION AUX ECHECS\, JEUX POUR TOUTE LA FAMILLE\nATELIER FRESQUE AVEC L’IMPRÉVISIBLE FABRIQUE\nPRÉVENTION SANTÉ SOLEIL\n21H MUSIQUE BRÉSILIENNE DIOGO CADAVAL\nbuvette et petite restauration sur place X autofinancement jeunes
URL:https://pole9.fr/event/mercredi-de-lete-1-2/
END:VEVENT
BEGIN:VEVENT
DTSTART;TZID=Europe/Paris:20221007T090000
DTEND;TZID=Europe/Paris:20221007T170000
DTSTAMP:20260422T011802
CREATED:20220919T090237Z
LAST-MODIFIED:20220919T090237Z
UID:245959-1665133200-1665162000@pole9.fr
SUMMARY:Bourse aux vêtements et puériculture
DESCRIPTION:Vous voulez renouveler le stock de vêtements pour l’hiver ?\nPassez nous voir le vendredi 7 octobre (9h/17h) et le samedi 8 octobre (9h/16h)et faites de bonnes affaires ! \nVous voulez vendre des vêtements trop petits de votre aîné ou les objets de puériculture du petit dernier ?\n– Retirez 1 kit de dépôt par personne à l’accueil\n– Adhésion au Pôle 9 à régler au moment de retirer le kit\n– Caution de 2 euros par chèque\npour retirer le kit\, qui sera rendue au moment de récupérer les invendus\nDépôt des objets et vêtements\nJeudi 6 octobre de 9h à 19h
URL:https://pole9.fr/event/bourse-aux-vetements-et-puericulture/
LOCATION:Pôle 9 – MJC Centre Social\, 4 rue Sylvain Simondan\, Lyon\, 69009\, France
ATTACH;FMTTYPE=image/jpeg:https://pole9.fr/wp-content/uploads/2021/10/bourse_vetements.jpg
END:VEVENT
END:VCALENDAR