BEGIN:VCALENDAR
VERSION:2.0
PRODID:-//Pôle 9 - ECPv6.5.1//NONSGML v1.0//EN
CALSCALE:GREGORIAN
METHOD:PUBLISH
X-ORIGINAL-URL:https://pole9.fr
X-WR-CALDESC:évènements pour Pôle 9
REFRESH-INTERVAL;VALUE=DURATION:PT1H
X-Robots-Tag:noindex
X-PUBLISHED-TTL:PT1H
BEGIN:VTIMEZONE

END:VTIMEZONE
BEGIN:VEVENT
DTSTART;TZID=Europe/Paris:20260422T054904
DTEND;TZID=Europe/Paris:20250709T000000
DTSTAMP:20260422T054904
CREATED:20250627T135300Z
LAST-MODIFIED:20250627T135300Z
UID:248459-0-1752019200@pole9.fr
SUMMARY:mercredi de l'été #1
DESCRIPTION:SPECTACLES ET INITIATION BMX – JORIS BRETAGNOLLES\nANIMATIONS SPORT\, NATURE\, INITIATION AUX ECHECS\, JEUX POUR TOUTE LA FAMILLE\nATELIER FRESQUE AVEC L’IMPRÉVISIBLE FABRIQUE\nPRÉVENTION SANTÉ SOLEIL\n21H MUSIQUE BRÉSILIENNE DIOGO CADAVAL\nbuvette et petite restauration sur place X autofinancement jeunes
URL:https://pole9.fr/event/mercredi-de-lete-1-2/
END:VEVENT
BEGIN:VEVENT
DTSTART;TZID=Europe/Paris:20220724T160000
DTEND;TZID=Europe/Paris:20220724T170000
DTSTAMP:20260422T054904
CREATED:20220704T082432Z
LAST-MODIFIED:20220704T083141Z
UID:245836-1658678400-1658682000@pole9.fr
SUMMARY:Dimanches de l'Ile Barbe - Déboires / Duo burlesque
DESCRIPTION:C’est l’histoire d’un personnage à la terrasse d’un café\, un cow-boy au chapeau\, un dandy maladroit qui commande un verre d’eau. La Cie La Volubile nous plonge dans un spectacle musical\, visuel et sonores où les bruitages se font à vue en direct avec pour références l’univers de Jacques Tati…
URL:https://pole9.fr/event/dimanches-de-lile-barbe-deboires-duo-burlesque/
LOCATION:L’Ile Barbe\, Lyon\, 69009\, France
CATEGORIES:Festival Les Dimanches de l'Ile Barbe,Gratuit,Spectacle
END:VEVENT
BEGIN:VEVENT
DTSTART;TZID=Europe/Paris:20220724T170000
DTEND;TZID=Europe/Paris:20220724T183000
DTSTAMP:20260422T054904
CREATED:20220704T083454Z
LAST-MODIFIED:20220704T083454Z
UID:245839-1658682000-1658687400@pole9.fr
SUMMARY:Dimanches de l'Ile Barbe - La Miye aux Tiroirs
DESCRIPTION:Avec leur spectacle « Vèlyeusa »\, ce groupe polyphonique à 4 voix\, 8 pieds\, 4 chaises et 8 mains revisite la culture arpitane et ses différents patois encore parlés dans la région. Leurs mélodies ont des influences variées portées par des percussions d’objets bruts.
URL:https://pole9.fr/event/dimanches-de-lile-barbe-la-miye-aux-tiroirs/
LOCATION:L’Ile Barbe\, Lyon\, 69009\, France
CATEGORIES:Concert,Festival Les Dimanches de l'Ile Barbe,Gratuit
END:VEVENT
BEGIN:VEVENT
DTSTART;TZID=Europe/Paris:20220724T190000
DTEND;TZID=Europe/Paris:20220724T203000
DTSTAMP:20260422T054904
CREATED:20220704T083945Z
LAST-MODIFIED:20220704T083945Z
UID:245841-1658689200-1658694600@pole9.fr
SUMMARY:Dimanches de l'Ile Barbe - Parranda La Cruz
DESCRIPTION:Parranda La Cruz est un ouragan sans précédent qui prend son origine dans la chaleur des traditions hybrides dans le nord du Venezuela. La puissance extatique des chants et des percussions est magnifiée par cette improbable rencontre de deux musiciens afro-vénézuéliennes et deux figures montantes du nouveau maloya (Réunion)\, qui viennent vous offrir une fiesta aussi vaste que deux océans.
URL:https://pole9.fr/event/dimanches-de-lile-barbe-parranda-la-cruz/
LOCATION:L’Ile Barbe\, Lyon\, 69009\, France
CATEGORIES:Concert,Festival Les Dimanches de l'Ile Barbe,Gratuit
END:VEVENT
END:VCALENDAR