BEGIN:VCALENDAR
VERSION:2.0
PRODID:-//Pôle 9 - ECPv6.5.1//NONSGML v1.0//EN
CALSCALE:GREGORIAN
METHOD:PUBLISH
X-ORIGINAL-URL:https://pole9.fr
X-WR-CALDESC:évènements pour Pôle 9
REFRESH-INTERVAL;VALUE=DURATION:PT1H
X-Robots-Tag:noindex
X-PUBLISHED-TTL:PT1H
BEGIN:VTIMEZONE

END:VTIMEZONE
BEGIN:VEVENT
DTSTART;TZID=Europe/Paris:20260422T054845
DTEND;TZID=Europe/Paris:20250709T000000
DTSTAMP:20260422T054845
CREATED:20250627T135300Z
LAST-MODIFIED:20250627T135300Z
UID:248459-0-1752019200@pole9.fr
SUMMARY:mercredi de l'été #1
DESCRIPTION:SPECTACLES ET INITIATION BMX – JORIS BRETAGNOLLES\nANIMATIONS SPORT\, NATURE\, INITIATION AUX ECHECS\, JEUX POUR TOUTE LA FAMILLE\nATELIER FRESQUE AVEC L’IMPRÉVISIBLE FABRIQUE\nPRÉVENTION SANTÉ SOLEIL\n21H MUSIQUE BRÉSILIENNE DIOGO CADAVAL\nbuvette et petite restauration sur place X autofinancement jeunes
URL:https://pole9.fr/event/mercredi-de-lete-1-2/
END:VEVENT
BEGIN:VEVENT
DTSTART;TZID=Europe/Paris:20220717T160000
DTEND;TZID=Europe/Paris:20220717T170000
DTSTAMP:20260422T054845
CREATED:20220704T081216Z
LAST-MODIFIED:20220704T083021Z
UID:245828-1658073600-1658077200@pole9.fr
SUMMARY:Dimanches de l'Ile Barbe - Adoro (cirque)
DESCRIPTION:La compagnie Alta Gama raconte les vicissitudes de la vie de couple avec joie et humour ! Alors que la chanteuse vient nous éblouir avec sa voix et sa musique\, lui\, son assistant ne l’aide pas mais l’interrompt seulement. Un jeu de clowns parfait où « deux idiots » s’embrouillent et se battent avec musique live et acrobaties incroyables sur un vélo
URL:https://pole9.fr/event/dimanches-de-lile-barbe-adoro-cirque/
LOCATION:L’Ile Barbe\, Lyon\, 69009\, France
CATEGORIES:Festival Les Dimanches de l'Ile Barbe,Gratuit,Spectacle
END:VEVENT
BEGIN:VEVENT
DTSTART;TZID=Europe/Paris:20220717T170000
DTEND;TZID=Europe/Paris:20220717T183000
DTSTAMP:20260422T054845
CREATED:20220704T081509Z
LAST-MODIFIED:20220704T083109Z
UID:245830-1658077200-1658082600@pole9.fr
SUMMARY:Dimanches de l'Ile Barbe - François Castiello
DESCRIPTION:Un voyage intime avec le chanteur et accordéoniste de Bratsch et Lalala Napoli.\nFrançois Castiello propose son univers solo\, une invitation au voyage sans frontière\, un souffle à découvrir et à faire partager.
URL:https://pole9.fr/event/dimanches-de-lile-barbe-francois-castiello/
LOCATION:L’Ile Barbe\, Lyon\, 69009\, France
CATEGORIES:Concert,Festival Les Dimanches de l'Ile Barbe,Gratuit
END:VEVENT
BEGIN:VEVENT
DTSTART;TZID=Europe/Paris:20220717T190000
DTEND;TZID=Europe/Paris:20220717T203000
DTSTAMP:20260422T054845
CREATED:20220704T082038Z
LAST-MODIFIED:20220704T082756Z
UID:245833-1658084400-1658089800@pole9.fr
SUMMARY:Dimanches de l'Ile Barbe - Pat Kalla et le Super Mojo
DESCRIPTION:Le Super Mojo est un philtre musical alliant les vertus bienfaitrices du highlife\, de l’afrobeat ou de la cumbia\, qu’il associe à la puissance du funk\, à la suavité de la soul et à la force des synthés de l’afro-disco.\nLe Super Mojo rend aux danseurs la vitalité perdue ! C’est de la chaleur qui se répand\, des sourires qui s’affichent\, des couleurs qui éclatent. Le Super Mojo\, c’est un hymne à la vie !
URL:https://pole9.fr/event/dimanches-de-lile-barbe-pat-kalla-et-le-super-mojo/
LOCATION:L’Ile Barbe\, Lyon\, 69009\, France
CATEGORIES:Concert,Festival Les Dimanches de l'Ile Barbe,Gratuit
END:VEVENT
END:VCALENDAR