BEGIN:VCALENDAR
VERSION:2.0
PRODID:-//Pôle 9 - ECPv6.5.1//NONSGML v1.0//EN
CALSCALE:GREGORIAN
METHOD:PUBLISH
X-WR-CALNAME:Pôle 9
X-ORIGINAL-URL:https://pole9.fr
X-WR-CALDESC:évènements pour Pôle 9
REFRESH-INTERVAL;VALUE=DURATION:PT1H
X-Robots-Tag:noindex
X-PUBLISHED-TTL:PT1H
BEGIN:VTIMEZONE

END:VTIMEZONE
BEGIN:VEVENT
DTSTART;TZID=Europe/Paris:20260422T065412
DTEND;TZID=Europe/Paris:20250709T000000
DTSTAMP:20260422T065412
CREATED:20250627T135300Z
LAST-MODIFIED:20250627T135300Z
UID:248459-0-1752019200@pole9.fr
SUMMARY:mercredi de l'été #1
DESCRIPTION:SPECTACLES ET INITIATION BMX – JORIS BRETAGNOLLES\nANIMATIONS SPORT\, NATURE\, INITIATION AUX ECHECS\, JEUX POUR TOUTE LA FAMILLE\nATELIER FRESQUE AVEC L’IMPRÉVISIBLE FABRIQUE\nPRÉVENTION SANTÉ SOLEIL\n21H MUSIQUE BRÉSILIENNE DIOGO CADAVAL\nbuvette et petite restauration sur place X autofinancement jeunes
URL:https://pole9.fr/event/mercredi-de-lete-1-2/
END:VEVENT
BEGIN:VEVENT
DTSTART;TZID=Europe/Paris:20220710T160000
DTEND;TZID=Europe/Paris:20220710T170000
DTSTAMP:20260422T065412
CREATED:20220704T075433Z
LAST-MODIFIED:20220704T082904Z
UID:245820-1657468800-1657472400@pole9.fr
SUMMARY:Dimanches de l'Ile Barbe - Même Pas Malle (cirque)
DESCRIPTION:La Jeune compagnie de cirque Solau & Cie nous plonge dans l’univers calme d’une chambre d’enfant. L’ennui pèse. L’ouverture d’une malle à jouets libère un monde imaginaire et éphémère. Deux personnages s’affrontent entre espiègleries et chamailleries.
URL:https://pole9.fr/event/dimanches-de-lile-barbe-meme-pas-malle-cirque/
LOCATION:L’Ile Barbe\, Lyon\, 69009\, France
CATEGORIES:Festival Les Dimanches de l'Ile Barbe,Gratuit,Spectacle
END:VEVENT
BEGIN:VEVENT
DTSTART;TZID=Europe/Paris:20220710T170000
DTEND;TZID=Europe/Paris:20220710T183000
DTSTAMP:20260422T065412
CREATED:20220704T080322Z
LAST-MODIFIED:20220704T082931Z
UID:245824-1657472400-1657477800@pole9.fr
SUMMARY:Dimanches de l'Ile Barbe - Aïtawa
DESCRIPTION:Véritable hybridation inspirée des rythmes afro-descendants des côtes caribéennes et pacifiques colombiennes mélangés à des sonorités psychédéliques du rock des années 70/80… Aïtawa puise son énergie dans la richesse de ses influences aussi éclectiques qu’intemporelles.
URL:https://pole9.fr/event/dimanches-de-lile-barbe-aitawa/
LOCATION:L’Ile Barbe\, Lyon\, 69009\, France
CATEGORIES:Concert,Festival Les Dimanches de l'Ile Barbe,Gratuit
END:VEVENT
BEGIN:VEVENT
DTSTART;TZID=Europe/Paris:20220710T190000
DTEND;TZID=Europe/Paris:20220710T203000
DTSTAMP:20260422T065412
CREATED:20220704T080742Z
LAST-MODIFIED:20220704T082955Z
UID:245826-1657479600-1657485000@pole9.fr
SUMMARY:Dimanches de l'Ile Barbe - Mafila KO
DESCRIPTION:Ce trio composé d’un musicien burkinabé\, d’un joueur de musique irlandaise et d’un contrebassiste jazz propose un voyage musical influencé par la musique d’Afrique de l’Ouest\, de l’Irlande et du jazz\, et nous donne à voir la possibilité d’une rencontre entre deux cultures a priori très différentes entre les notes rapides et pincées de la kora\, les envolées du uileann pipes ou du low whistle et les graves de la contrebasse.
URL:https://pole9.fr/event/dimanches-de-lile-barbe-mafila-ko/
LOCATION:L’Ile Barbe\, Lyon\, 69009\, France
CATEGORIES:Concert,Festival Les Dimanches de l'Ile Barbe,Gratuit
END:VEVENT
END:VCALENDAR