BEGIN:VCALENDAR
VERSION:2.0
PRODID:-//Pôle 9 - ECPv6.5.1//NONSGML v1.0//EN
CALSCALE:GREGORIAN
METHOD:PUBLISH
X-ORIGINAL-URL:https://pole9.fr
X-WR-CALDESC:évènements pour Pôle 9
REFRESH-INTERVAL;VALUE=DURATION:PT1H
X-Robots-Tag:noindex
X-PUBLISHED-TTL:PT1H
BEGIN:VTIMEZONE

END:VTIMEZONE
BEGIN:VEVENT
DTSTART;TZID=Europe/Paris:20260422T054500
DTEND;TZID=Europe/Paris:20250709T000000
DTSTAMP:20260422T054500
CREATED:20250627T135300Z
LAST-MODIFIED:20250627T135300Z
UID:248459-0-1752019200@pole9.fr
SUMMARY:mercredi de l'été #1
DESCRIPTION:SPECTACLES ET INITIATION BMX – JORIS BRETAGNOLLES\nANIMATIONS SPORT\, NATURE\, INITIATION AUX ECHECS\, JEUX POUR TOUTE LA FAMILLE\nATELIER FRESQUE AVEC L’IMPRÉVISIBLE FABRIQUE\nPRÉVENTION SANTÉ SOLEIL\n21H MUSIQUE BRÉSILIENNE DIOGO CADAVAL\nbuvette et petite restauration sur place X autofinancement jeunes
URL:https://pole9.fr/event/mercredi-de-lete-1-2/
END:VEVENT
BEGIN:VEVENT
DTSTART;TZID=Europe/Paris:20220705T183000
DTEND;TZID=Europe/Paris:20220705T210000
DTSTAMP:20260422T054500
CREATED:20220701T131004Z
LAST-MODIFIED:20220701T131404Z
UID:245816-1657045800-1657054800@pole9.fr
SUMMARY:Ciné en famille - Cruella
DESCRIPTION:Elle a terrorisé des générations d’enfants ! Et revient en grande forme sous les traits d’Emma Stone.\nCe film signé Disney sur la jeunesse de la méchante des « 101 Dalmatiens » ne manque ni de punk-rock ni de panache. \nDurée : 2h14\nTarif 2 € par personne\nA partir de 8 ans
URL:https://pole9.fr/event/cine-en-famille-cruella/
LOCATION:Pôle 9 – MJC Centre Social\, 4 rue Sylvain Simondan\, Lyon\, 69009\, France
CATEGORIES:Cinéma,Sortie familles
END:VEVENT
END:VCALENDAR