BEGIN:VCALENDAR
VERSION:2.0
PRODID:-//Pôle 9 - ECPv6.5.1//NONSGML v1.0//EN
CALSCALE:GREGORIAN
METHOD:PUBLISH
X-WR-CALNAME:Pôle 9
X-ORIGINAL-URL:https://pole9.fr
X-WR-CALDESC:évènements pour Pôle 9
REFRESH-INTERVAL;VALUE=DURATION:PT1H
X-Robots-Tag:noindex
X-PUBLISHED-TTL:PT1H
BEGIN:VTIMEZONE

END:VTIMEZONE
BEGIN:VEVENT
DTSTART;TZID=Europe/Paris:20260422T103048
DTEND;TZID=Europe/Paris:20250709T000000
DTSTAMP:20260422T103048
CREATED:20250627T135300Z
LAST-MODIFIED:20250627T135300Z
UID:248459-0-1752019200@pole9.fr
SUMMARY:mercredi de l'été #1
DESCRIPTION:SPECTACLES ET INITIATION BMX – JORIS BRETAGNOLLES\nANIMATIONS SPORT\, NATURE\, INITIATION AUX ECHECS\, JEUX POUR TOUTE LA FAMILLE\nATELIER FRESQUE AVEC L’IMPRÉVISIBLE FABRIQUE\nPRÉVENTION SANTÉ SOLEIL\n21H MUSIQUE BRÉSILIENNE DIOGO CADAVAL\nbuvette et petite restauration sur place X autofinancement jeunes
URL:https://pole9.fr/event/mercredi-de-lete-1-2/
END:VEVENT
BEGIN:VEVENT
DTSTART;TZID=Europe/Paris:20220422T183000
DTEND;TZID=Europe/Paris:20220422T193000
DTSTAMP:20260422T103048
CREATED:20220328T100542Z
LAST-MODIFIED:20220328T100819Z
UID:245603-1650652200-1650655800@pole9.fr
SUMMARY:Stage Yoga parents / enfants (3/10 ans)
DESCRIPTION:Le but du parent dans cette pratique\, est d’initier son enfant au yoga mais également de participer au développement personnel de celui-ci à travers des exercices ludiques. \nAu programme : posture de détente\, exercice de force et de souplesse\, acroyoga et massage. \nEn famille : 1 adulte référent et un enfant (+ 5€ par enfant supplémentaire)
URL:https://pole9.fr/event/stage-yoga-parents-enfants-3-10-ans/
LOCATION:Pôle 9 – MJC Centre Social\, 4 rue Sylvain Simondan\, Lyon\, 69009\, France
CATEGORIES:Stages
ATTACH;FMTTYPE=image/jpeg:https://pole9.fr/wp-content/uploads/2022/03/yoageparentenfant.jpg
END:VEVENT
BEGIN:VEVENT
DTSTART;TZID=Europe/Paris:20220422T193000
DTEND;TZID=Europe/Paris:20220422T203000
DTSTAMP:20260422T103048
CREATED:20220328T101152Z
LAST-MODIFIED:20220328T101152Z
UID:245607-1650655800-1650659400@pole9.fr
SUMMARY:Stage Danse fitness Parents / enfants
DESCRIPTION:La danse fitness est une activité qui va vous permettre de bouger et de vous amuser tout en dansant sur des rythmes endiablés. \nL’objectif est de brûler des calories\, de garder la forme et de s’amuser bien sûr. \nEn famille : 1 parents et un enfant à partir de 8 ans. (+ 5€ par enfant supplémentaire)
URL:https://pole9.fr/event/stage-danse-fitness-parents-enfants/
LOCATION:Pôle 9 – MJC Centre Social\, 4 rue Sylvain Simondan\, Lyon\, 69009\, France
CATEGORIES:Stages
END:VEVENT
END:VCALENDAR