BEGIN:VCALENDAR
VERSION:2.0
PRODID:-//Pôle 9 - ECPv6.5.1//NONSGML v1.0//EN
CALSCALE:GREGORIAN
METHOD:PUBLISH
X-WR-CALNAME:Pôle 9
X-ORIGINAL-URL:https://pole9.fr
X-WR-CALDESC:évènements pour Pôle 9
REFRESH-INTERVAL;VALUE=DURATION:PT1H
X-Robots-Tag:noindex
X-PUBLISHED-TTL:PT1H
BEGIN:VTIMEZONE

END:VTIMEZONE
BEGIN:VEVENT
DTSTART;TZID=Europe/Paris:20260422T102236
DTEND;TZID=Europe/Paris:20250709T000000
DTSTAMP:20260422T102236
CREATED:20250627T135300Z
LAST-MODIFIED:20250627T135300Z
UID:248459-0-1752019200@pole9.fr
SUMMARY:mercredi de l'été #1
DESCRIPTION:SPECTACLES ET INITIATION BMX – JORIS BRETAGNOLLES\nANIMATIONS SPORT\, NATURE\, INITIATION AUX ECHECS\, JEUX POUR TOUTE LA FAMILLE\nATELIER FRESQUE AVEC L’IMPRÉVISIBLE FABRIQUE\nPRÉVENTION SANTÉ SOLEIL\n21H MUSIQUE BRÉSILIENNE DIOGO CADAVAL\nbuvette et petite restauration sur place X autofinancement jeunes
URL:https://pole9.fr/event/mercredi-de-lete-1-2/
END:VEVENT
BEGIN:VEVENT
DTSTART;TZID=Europe/Paris:20220413T153000
DTEND;TZID=Europe/Paris:20220413T153000
DTSTAMP:20260422T102236
CREATED:20220223T130020Z
LAST-MODIFIED:20220323T144100Z
UID:245429-1649863800-1649863800@pole9.fr
SUMMARY:Spectacle Pom'Pommes - Cie Rayon de Lune
DESCRIPTION:Première création de la compagnie Rayon de Lune\, « Pom’Pommes » est un spectacle qui subjugue les petits dans un enchaînement de tableaux lumineux et sonores.\nEntre douceur et malice\, la comédienne nous conte l’histoire d’une pomme en chantant. C’est aussi l’histoire de la vie\, un éternel recommencement. La petite graine devient un grand pommier\, qui à son tour produit de bons fruits…\nUn joli moment de légèreté.\nJeune public de 1 à 5 ans – Durée : 30 mn.\nTarif au choix 5 / 7 / 10 euros.\nRéservation conseillée à l’accueil ou sur http://www.billetweb.fr/pompommes
URL:https://pole9.fr/event/spectacle-pompommes-cie-rayon-de-lune/
LOCATION:Pôle 9 – MJC Centre Social\, 4 rue Sylvain Simondan\, Lyon\, 69009\, France
CATEGORIES:Spectacle
END:VEVENT
END:VCALENDAR