BEGIN:VCALENDAR
VERSION:2.0
PRODID:-//Pôle 9 - ECPv6.5.1//NONSGML v1.0//EN
CALSCALE:GREGORIAN
METHOD:PUBLISH
X-ORIGINAL-URL:https://pole9.fr
X-WR-CALDESC:évènements pour Pôle 9
REFRESH-INTERVAL;VALUE=DURATION:PT1H
X-Robots-Tag:noindex
X-PUBLISHED-TTL:PT1H
BEGIN:VTIMEZONE

END:VTIMEZONE
BEGIN:VEVENT
DTSTART;TZID=Europe/Paris:20260422T103220
DTEND;TZID=Europe/Paris:20250709T000000
DTSTAMP:20260422T103220
CREATED:20250627T135300Z
LAST-MODIFIED:20250627T135300Z
UID:248459-0-1752019200@pole9.fr
SUMMARY:mercredi de l'été #1
DESCRIPTION:SPECTACLES ET INITIATION BMX – JORIS BRETAGNOLLES\nANIMATIONS SPORT\, NATURE\, INITIATION AUX ECHECS\, JEUX POUR TOUTE LA FAMILLE\nATELIER FRESQUE AVEC L’IMPRÉVISIBLE FABRIQUE\nPRÉVENTION SANTÉ SOLEIL\n21H MUSIQUE BRÉSILIENNE DIOGO CADAVAL\nbuvette et petite restauration sur place X autofinancement jeunes
URL:https://pole9.fr/event/mercredi-de-lete-1-2/
END:VEVENT
BEGIN:VEVENT
DTSTART;TZID=Europe/Paris:20220331T203000
DTEND;TZID=Europe/Paris:20220331T203000
DTSTAMP:20260422T103220
CREATED:20220328T072453Z
LAST-MODIFIED:20220328T072613Z
UID:245572-1648758600-1648758600@pole9.fr
SUMMARY:Sortie de résidence "Le Tour du Monde en Galipette"
DESCRIPTION:À l’issue d’un mois de formation intensive en art acrobatique et en danse\, les élèves de l’école de cirque Le Tour du Monde en Galipette vous invitent à venir assister au rendu de leur travail de création.\nLaboratoire pour expérimenter de nouvelles possibilités de mouvements et opérer des mélanges d’un genre nouveau\, cette création sera le résultat de leur travail de recherche\, personnelle\, en groupe\, et à la croisée du cirque et de la danse.\nN’hésitez pas à venir les découvrir\, les soutenir\, les encourager\, et ramener vos proches !\n\nEntrée libre – tout public
URL:https://pole9.fr/event/sortie-de-residence-le-tour-du-monde-en-galipette/
LOCATION:Pôle 9 – MJC Centre Social\, 4 rue Sylvain Simondan\, Lyon\, 69009\, France
CATEGORIES:Gratuit,Tout public
END:VEVENT
END:VCALENDAR