BEGIN:VCALENDAR
VERSION:2.0
PRODID:-//Pôle 9 - ECPv6.5.1//NONSGML v1.0//EN
CALSCALE:GREGORIAN
METHOD:PUBLISH
X-WR-CALNAME:Pôle 9
X-ORIGINAL-URL:https://pole9.fr
X-WR-CALDESC:évènements pour Pôle 9
REFRESH-INTERVAL;VALUE=DURATION:PT1H
X-Robots-Tag:noindex
X-PUBLISHED-TTL:PT1H
BEGIN:VTIMEZONE

END:VTIMEZONE
BEGIN:VEVENT
DTSTART;TZID=Europe/Paris:20260422T114909
DTEND;TZID=Europe/Paris:20250709T000000
DTSTAMP:20260422T114909
CREATED:20250627T135300Z
LAST-MODIFIED:20250627T135300Z
UID:248459-0-1752019200@pole9.fr
SUMMARY:mercredi de l'été #1
DESCRIPTION:SPECTACLES ET INITIATION BMX – JORIS BRETAGNOLLES\nANIMATIONS SPORT\, NATURE\, INITIATION AUX ECHECS\, JEUX POUR TOUTE LA FAMILLE\nATELIER FRESQUE AVEC L’IMPRÉVISIBLE FABRIQUE\nPRÉVENTION SANTÉ SOLEIL\n21H MUSIQUE BRÉSILIENNE DIOGO CADAVAL\nbuvette et petite restauration sur place X autofinancement jeunes
URL:https://pole9.fr/event/mercredi-de-lete-1-2/
END:VEVENT
BEGIN:VEVENT
DTSTART;TZID=Europe/Paris:20220312T093000
DTEND;TZID=Europe/Paris:20220312T110000
DTSTAMP:20260422T114909
CREATED:20220223T114219Z
LAST-MODIFIED:20220223T114219Z
UID:245423-1647077400-1647082800@pole9.fr
SUMMARY:Parent'aise : partage d'expériences entre parents
DESCRIPTION:Un temps de rencontre entre parents ayant des enfants âgés de 0 à 11 ans\, animé par une conseillère parentale afin de prendre du recul\, de partager ses expériences et de mieux comprendre son enfant. La thématique abordée est « Comprendre le développement de mon enfant pour mieux accompagner ses émotions”.\nSur inscription à l’accueil ou auprès de Nabila au 06 52 86 20 58.
URL:https://pole9.fr/event/parentaise-partage-dexperiences-entre-parents-3/
LOCATION:Pôle 9 – MJC Centre Social\, 4 rue Sylvain Simondan\, Lyon\, 69009\, France
ATTACH;FMTTYPE=image/jpeg:https://pole9.fr/wp-content/uploads/2021/12/Parentalite.jpg
END:VEVENT
BEGIN:VEVENT
DTSTART;TZID=Europe/Paris:20220312T140000
DTEND;TZID=Europe/Paris:20220312T170000
DTSTAMP:20260422T114909
CREATED:20220223T135059Z
LAST-MODIFIED:20220223T135239Z
UID:245459-1647093600-1647104400@pole9.fr
SUMMARY:Tricothé - initiation au punch needle
DESCRIPTION:C’est un rendez-vous intergénérationnel autour du fil et de la laine. Ce n’est pas un cours de tricot. Les plus chevronné.es partagent leurs techniques avec les débutant.es.\nCette séance sera dédiée au punch needle\, LA nouvelle tendance en matière de broderie.\nCette aiguille magique\, comparable à un stylo à broder vous permet de créer du relief de manière beaucoup plus rapide qu’en broderie manuelle classique. \nAdapté aux petits dès 6 ans comme aux plus grands. \nParticipation aux frais de 5€ par personne pour l’initiation uniquement. \nRéservation de votre kit auprès de Pascaline au 06.15.65.76.45
URL:https://pole9.fr/event/tricothe-initiation-au-punch-needle-2/
LOCATION:Pôle 9 – MJC Centre Social\, 4 rue Sylvain Simondan\, Lyon\, 69009\, France
CATEGORIES:dès 6 ans,Tricothé
ATTACH;FMTTYPE=image/jpeg:https://pole9.fr/wp-content/uploads/2022/02/Tout-savoir-sur-la-technique-du-punch-needle.jpg
END:VEVENT
BEGIN:VEVENT
DTSTART;TZID=Europe/Paris:20220312T201500
DTEND;TZID=Europe/Paris:20220312T201500
DTSTAMP:20260422T114909
CREATED:20220223T125214Z
LAST-MODIFIED:20220223T125405Z
UID:245425-1647116100-1647116100@pole9.fr
SUMMARY:Théâtre d'improvisation
DESCRIPTION:Soirée familiale.\nC’est l’heure d’un nouveau rendez-vous proposé par la compagnie de théâtre d’improvisation en résidence au Pôle « Les Chaussettes trouées ». Venez profiter d’un moment de pure détente en famille avec un nouveau spectacle « Les chaussettes sales se lavent en famille ». Pour le meilleur et pour le rire !\nRéservation conseillée. Buvette sur place. Pass sanitaire / vaccinal obligatoire.
URL:https://pole9.fr/event/theatre-dimprovisation/
LOCATION:Pôle 9 – MJC Centre Social\, 4 rue Sylvain Simondan\, Lyon\, 69009\, France
END:VEVENT
END:VCALENDAR