BEGIN:VCALENDAR
VERSION:2.0
PRODID:-//Pôle 9 - ECPv6.5.1//NONSGML v1.0//EN
CALSCALE:GREGORIAN
METHOD:PUBLISH
X-WR-CALNAME:Pôle 9
X-ORIGINAL-URL:https://pole9.fr
X-WR-CALDESC:évènements pour Pôle 9
REFRESH-INTERVAL;VALUE=DURATION:PT1H
X-Robots-Tag:noindex
X-PUBLISHED-TTL:PT1H
BEGIN:VTIMEZONE

END:VTIMEZONE
BEGIN:VEVENT
DTSTART;TZID=Europe/Paris:20260422T130707
DTEND;TZID=Europe/Paris:20250709T000000
DTSTAMP:20260422T130707
CREATED:20250627T135300Z
LAST-MODIFIED:20250627T135300Z
UID:248459-0-1752019200@pole9.fr
SUMMARY:mercredi de l'été #1
DESCRIPTION:SPECTACLES ET INITIATION BMX – JORIS BRETAGNOLLES\nANIMATIONS SPORT\, NATURE\, INITIATION AUX ECHECS\, JEUX POUR TOUTE LA FAMILLE\nATELIER FRESQUE AVEC L’IMPRÉVISIBLE FABRIQUE\nPRÉVENTION SANTÉ SOLEIL\n21H MUSIQUE BRÉSILIENNE DIOGO CADAVAL\nbuvette et petite restauration sur place X autofinancement jeunes
URL:https://pole9.fr/event/mercredi-de-lete-1-2/
END:VEVENT
BEGIN:VEVENT
DTSTART;TZID=Europe/Paris:20220309T143000
DTEND;TZID=Europe/Paris:20220309T170000
DTSTAMP:20260422T130707
CREATED:20220302T090610Z
LAST-MODIFIED:20220302T090829Z
UID:245494-1646836200-1646845200@pole9.fr
SUMMARY:Mikado à la Chaufferie du Vergoin
DESCRIPTION:Des espaces de jeux pour tous\, petite enfance\, enfance\, ado\, adultes. Venez partager un moment de jeux en toute convivialité. Isabelle et Florian vous accueillent un mercredi par mois avec une grande variété de jeux et de jouets adaptés à tous les âges !\nGratuit / Sans inscription.
URL:https://pole9.fr/event/mikado-a-la-chaufferie-du-vergoin-3/
LOCATION:La Chaufferie du Vergoin\, 7 rue Albert Falsan\, Lyon\, 69009\, France
CATEGORIES:jeux pour tous
ATTACH;FMTTYPE=image/jpeg:https://pole9.fr/wp-content/uploads/2021/10/chaufferie_vergoin_PIJ.jpg
END:VEVENT
END:VCALENDAR