BEGIN:VCALENDAR
VERSION:2.0
PRODID:-//Pôle 9 - ECPv6.5.1//NONSGML v1.0//EN
CALSCALE:GREGORIAN
METHOD:PUBLISH
X-WR-CALNAME:Pôle 9
X-ORIGINAL-URL:https://pole9.fr
X-WR-CALDESC:évènements pour Pôle 9
REFRESH-INTERVAL;VALUE=DURATION:PT1H
X-Robots-Tag:noindex
X-PUBLISHED-TTL:PT1H
BEGIN:VTIMEZONE

END:VTIMEZONE
BEGIN:VEVENT
DTSTART;TZID=Europe/Paris:20260422T114807
DTEND;TZID=Europe/Paris:20250709T000000
DTSTAMP:20260422T114807
CREATED:20250627T135300Z
LAST-MODIFIED:20250627T135300Z
UID:248459-0-1752019200@pole9.fr
SUMMARY:mercredi de l'été #1
DESCRIPTION:SPECTACLES ET INITIATION BMX – JORIS BRETAGNOLLES\nANIMATIONS SPORT\, NATURE\, INITIATION AUX ECHECS\, JEUX POUR TOUTE LA FAMILLE\nATELIER FRESQUE AVEC L’IMPRÉVISIBLE FABRIQUE\nPRÉVENTION SANTÉ SOLEIL\n21H MUSIQUE BRÉSILIENNE DIOGO CADAVAL\nbuvette et petite restauration sur place X autofinancement jeunes
URL:https://pole9.fr/event/mercredi-de-lete-1-2/
END:VEVENT
BEGIN:VEVENT
DTSTART;TZID=Europe/Paris:20220308T193000
DTEND;TZID=Europe/Paris:20220308T210000
DTSTAMP:20260422T114807
CREATED:20220223T113829Z
LAST-MODIFIED:20220223T114057Z
UID:245421-1646767800-1646773200@pole9.fr
SUMMARY:Parent'aise : partage d'expériences entre parents
DESCRIPTION:Un temps de rencontre entre parents ayant des enfants âgés de 0 à 11 ans\, animé par une conseillère parentale afin de prendre du recul\, de partager ses expériences et de mieux comprendre son enfant. La thématique abordée est « Comprendre le développement de mon enfant pour mieux accompagner ses émotions”.\nSur inscription à l’accueil ou auprès de Nabila au 06 52 86 20 58.
URL:https://pole9.fr/event/parentaise-partage-dexperiences-entre-parents-2/
LOCATION:Pôle 9 – MJC Centre Social\, 4 rue Sylvain Simondan\, Lyon\, 69009\, France
ATTACH;FMTTYPE=image/jpeg:https://pole9.fr/wp-content/uploads/2021/12/Parentalite.jpg
END:VEVENT
END:VCALENDAR