BEGIN:VCALENDAR
VERSION:2.0
PRODID:-//Pôle 9 - ECPv6.5.1//NONSGML v1.0//EN
CALSCALE:GREGORIAN
METHOD:PUBLISH
X-WR-CALNAME:Pôle 9
X-ORIGINAL-URL:https://pole9.fr
X-WR-CALDESC:évènements pour Pôle 9
REFRESH-INTERVAL;VALUE=DURATION:PT1H
X-Robots-Tag:noindex
X-PUBLISHED-TTL:PT1H
BEGIN:VTIMEZONE

END:VTIMEZONE
BEGIN:VEVENT
DTSTART;TZID=Europe/Paris:20260422T130658
DTEND;TZID=Europe/Paris:20250709T000000
DTSTAMP:20260422T130658
CREATED:20250627T135300Z
LAST-MODIFIED:20250627T135300Z
UID:248459-0-1752019200@pole9.fr
SUMMARY:mercredi de l'été #1
DESCRIPTION:SPECTACLES ET INITIATION BMX – JORIS BRETAGNOLLES\nANIMATIONS SPORT\, NATURE\, INITIATION AUX ECHECS\, JEUX POUR TOUTE LA FAMILLE\nATELIER FRESQUE AVEC L’IMPRÉVISIBLE FABRIQUE\nPRÉVENTION SANTÉ SOLEIL\n21H MUSIQUE BRÉSILIENNE DIOGO CADAVAL\nbuvette et petite restauration sur place X autofinancement jeunes
URL:https://pole9.fr/event/mercredi-de-lete-1-2/
END:VEVENT
BEGIN:VEVENT
DTSTART;TZID=Europe/Paris:20220131T083000
DTEND;TZID=Europe/Paris:20220131T103000
DTSTAMP:20260422T130658
CREATED:20211220T131350Z
LAST-MODIFIED:20211220T143824Z
UID:245117-1643617800-1643625000@pole9.fr
SUMMARY:Causons “gestion du quotidien”
DESCRIPTION:
URL:https://pole9.fr/event/causons-gestion-du-quotidien-2/
LOCATION:Lieu Accueil Parents de l’école Alphonse Daudet\, 18 rue Charles Porcher\, Lyon\, 69009\, France
CATEGORIES:Discussion
ATTACH;FMTTYPE=image/jpeg:https://pole9.fr/wp-content/uploads/2021/12/gestionduquotidien.jpg
END:VEVENT
END:VCALENDAR