BEGIN:VCALENDAR
VERSION:2.0
PRODID:-//Pôle 9 - ECPv6.5.1//NONSGML v1.0//EN
CALSCALE:GREGORIAN
METHOD:PUBLISH
X-WR-CALNAME:Pôle 9
X-ORIGINAL-URL:https://pole9.fr
X-WR-CALDESC:évènements pour Pôle 9
REFRESH-INTERVAL;VALUE=DURATION:PT1H
X-Robots-Tag:noindex
X-PUBLISHED-TTL:PT1H
BEGIN:VTIMEZONE

END:VTIMEZONE
BEGIN:VEVENT
DTSTART;TZID=Europe/Paris:20260422T143806
DTEND;TZID=Europe/Paris:20250709T000000
DTSTAMP:20260422T143806
CREATED:20250627T135300Z
LAST-MODIFIED:20250627T135300Z
UID:248459-0-1752019200@pole9.fr
SUMMARY:mercredi de l'été #1
DESCRIPTION:SPECTACLES ET INITIATION BMX – JORIS BRETAGNOLLES\nANIMATIONS SPORT\, NATURE\, INITIATION AUX ECHECS\, JEUX POUR TOUTE LA FAMILLE\nATELIER FRESQUE AVEC L’IMPRÉVISIBLE FABRIQUE\nPRÉVENTION SANTÉ SOLEIL\n21H MUSIQUE BRÉSILIENNE DIOGO CADAVAL\nbuvette et petite restauration sur place X autofinancement jeunes
URL:https://pole9.fr/event/mercredi-de-lete-1-2/
END:VEVENT
BEGIN:VEVENT
DTSTART;VALUE=DATE:20220129
DTEND;VALUE=DATE:20220130
DTSTAMP:20260422T143806
CREATED:20211220T152817Z
LAST-MODIFIED:20211222T102911Z
UID:245164-1643414400-1643500799@pole9.fr
SUMMARY:Sorties familiales à la neige - Alpe du Grand Serre
DESCRIPTION:
URL:https://pole9.fr/event/sorties-familiales-a-la-neige-alpe-du-grand-serre/
CATEGORIES:Sortie familiale à la neige
ATTACH;FMTTYPE=image/jpeg:https://pole9.fr/wp-content/uploads/2021/12/sorties_neige.jpg
END:VEVENT
BEGIN:VEVENT
DTSTART;TZID=Europe/Paris:20220129T140000
DTEND;TZID=Europe/Paris:20220129T170000
DTSTAMP:20260422T143806
CREATED:20211220T170209Z
LAST-MODIFIED:20211222T103153Z
UID:245196-1643464800-1643475600@pole9.fr
SUMMARY:Tricothé - initiation au tricotin géant
DESCRIPTION:
URL:https://pole9.fr/event/tricothe-initiation-au-tricotin-geant/
LOCATION:Pôle 9 – MJC Centre Social\, 4 rue Sylvain Simondan\, Lyon\, 69009\, France
CATEGORIES:Tricothé
ATTACH;FMTTYPE=image/jpeg:https://pole9.fr/wp-content/uploads/2021/12/tricotin.jpg
END:VEVENT
BEGIN:VEVENT
DTSTART;TZID=Europe/Paris:20220129T200000
DTEND;TZID=Europe/Paris:20220129T200000
DTSTAMP:20260422T143806
CREATED:20211220T164722Z
LAST-MODIFIED:20211221T084457Z
UID:245188-1643486400-1643486400@pole9.fr
SUMMARY:Concert des ateliers du Pôle Musique
DESCRIPTION:
URL:https://pole9.fr/event/concert-des-ateliers-du-pole-musique/
LOCATION:Pôle 9 – MJC Centre Social\, 4 rue Sylvain Simondan\, Lyon\, 69009\, France
CATEGORIES:Concert
ATTACH;FMTTYPE=image/jpeg:https://pole9.fr/wp-content/uploads/2021/12/concert_pole_musique.jpg
END:VEVENT
END:VCALENDAR